{"text_format":"3","workbook":"xlsx","n_sheets":16,"sheets":["HELLO WORLD","ESTÁDIOS","GRUPOS","MATA MATA","PAÍS","TABELA A","TABELA B","TABELA C","TABELA D","TABELA E","TABELA F","TABELA G","TABELA H","GRÁFICOS","PARÂMETROS","PONTUAÇÕES"],"not_rendered":{"charts":8,"images":9,"macros":1,"defined_names":8,"comments":8,"pivot_tables":1},"read":"whole","date_system":"1900"}

{"sheet":"HELLO WORLD","index":0,"n_rows":18,"n_cols":1,"rows_kept":18,"merged":[[0,0,0,6],[1,0,11,6],[12,0,12,6],[13,0,13,6],[14,0,15,5],[14,6,15,6],[16,0,16,6],[17,0,17,6]]}
["WORLD CUP 2022 - HELLO WORLD"]
["Este projeto foi desenvolvido por Renato Vitor com o objetivo de passar conhecimento sobre alguns recursos do Excel de forma interativa com os dados da Copa do Mundo 2022.\nEm breve estarei disponibilizando mais conteúdos no meu instagram @renatovitor01, desde já, te convido a seguir-me.\nGostou deste arquivo? Dá um feedback, seu retorno é importante para mim"]
{"$rows_empty":10}
["Nas planilhas \"Tabela A, Tabela B, ..., Tabela H\", o excel classificará as equipes conforme você for preenchendo os resultados, caso o grupo termine empatado em todos os critérios, marque com um X na equipe que será classificada"]
["Na planilha Mata-mata, preencha primeiro o resultado do jogo nos 90 min. Caso tenha sido empate, informe o resultado da prorrogação, caso a prorrogação tenha terminada empatada, informe o resultado dos pênaltis"]
["*Apenas os campos na cor amarela, podem ser alterados, estes campos editáveis, estão nas planilhas de cor amarela"]
[]
["Proibida comercialização deste material\n₢Renato Vitor"]
[{"$f":"\"Copyright © \"&YEAR(NOW())&\" Renato Vitor\"","v":"Copyright © 2022 Renato Vitor"}]

{"sheet":"ESTÁDIOS","index":1,"n_rows":17,"n_cols":59,"rows_kept":17,"merged":[[0,0,0,3],[0,8,0,11],[0,16,0,19],[0,24,0,27],[0,32,0,35],[0,40,0,43],[0,48,0,51],[0,56,0,59],[15,0,15,1],[15,8,15,9],[15,16,15,17],[15,24,15,25],[15,32,15,33],[15,40,15,41],[15,48,15,49],[15,56,15,57],[16,0,16,1],[16,2,19,6],[16,8,16,9],[16,10,21,14],[16,16,16,17],[16,18,21,22],[16,24,16,25],[16,26,21,30],[16,32,16,33],[16,34,21,38],[16,40,16,41],[16,42,21,46],[16,48,16,49],[16,50,21,54],[16,56,16,57],[16,58,21,62],[17,0,17,1],[17,8,17,9],[17,16,17,17],[17,24,17,25],[17,32,17,33],[17,40,17,41],[17,48,17,49],[17,56,17,57],[20,2,20,6]]}
["Estádio Lusail",{"$nulls":7},"Estádio Al Bayt",{"$nulls":7},"Estádio Al Janoub",{"$nulls":7},"Estádio Ahmad Bin Ali",{"$nulls":7},"Estádio Al Thumama",{"$nulls":7},"Estádio Education City",{"$nulls":7},"Estádio 974",{"$nulls":7},"Estádio Khalifa"]
{"$rows_empty":14}
["Capacidade",null,"80 mil pessoas",{"$nulls":5},"Capacidade",null,"60 mil pessoas",{"$nulls":5},"Capacidade",null,"40 mil pessoas",{"$nulls":5},"Capacidade",null,"40 mil pessoas",{"$nulls":5},"Capacidade",null,"40 mil pessoas",{"$nulls":5},"Capacidade",null,"40 mil pessoas",{"$nulls":5},"Capacidade",null,"40 mil pessoas",{"$nulls":5},"Capacidade",null,"40 mil pessoas"]
["Descritivo",null,"O maior dos estádios do país, localizado próximo de Doha. Palco da grande final do mundial em 18/12/2022. Copyright © 2022, Gazeta do Povo. Todos os direitos reservados.",{"$nulls":5},"Descritivo",null,"Localizado na cidade de Al Khor. O projeto arquitetônico lembra as tendas utilizadas pelos nômades árabes.  Receberá a abertura, duelo entre Catar e Equador. Copyright © 2022, Gazeta do Povo. Todos os direitos reservados.",{"$nulls":5},"Descritivo",null,"Inaugurado em 2019, na cidade de Al Wakrah. A obra faz referência aos tradicionais barcos de pesca do país. Copyright © 2022, Gazeta do Povo. Todos os direitos reservados.",{"$nulls":5},"Descritivo",null,"Localizado próximo ao deserto em Al Rayyan e inaugurado em 2020. Copyright © 2022, Gazeta do Povo. Todos os direitos reservados.",{"$nulls":5},"Descritivo",null,"O estádio foi erguido para lembrar a \"gahfiya\", touca usada por muçulmanos. Foi entregue em 2021. Copyright © 2022, Gazeta do Povo. Todos os direitos reservados.",{"$nulls":5},"Descritivo",null,"Está próximo das universidades e foi inaguaurado em 2020, na capital do Catar, Doha. Copyright © 2022, Gazeta do Povo. Todos os direitos reservados.",{"$nulls":5},"Descritivo",null,"Dos mais singulares, tem contêiners e módulos de aço na estrutura. Será desmontado ao final do Mundial. Copyright © 2022, Gazeta do Povo. Todos os direitos reservados.",{"$nulls":5},"Descritivo",null,"Erguido em 1976 e reinaugurado em 2017, Estádio Internacional Khalifa é totalmente climatizado. Local recebeu um investimento de R$ 300 milhões. Copyright © 2022, GloboEsporte. Todos os direitos reservados."]

{"sheet":"GRUPOS","index":2,"n_rows":12,"n_cols":12,"rows_kept":12,"merged":[[0,0,0,1],[7,0,7,2]]}
["GRUPO",null,"A","PTS","V","E","D","G.P","G.C","SLD","MANUAL","%"]
[{"$f":"_xlfn._xlws.FILTER(PONTUAÇÕES!A2:K33,PONTUAÇÕES!A2:A33=GRUPOS!C1)","v":"A"},1,"CATAR",0,0,0,0,0,0,0,0,{"$f":"IF(SUM(E2:G2)=0,0,D2/(SUM(E2:G2)*3))","v":{"v":0,"d":"0%"}}]
["A",2,"EQUADOR",0,0,0,0,0,0,0,0,{"$f":"IF(SUM(E3:G3)=0,0,D3/(SUM(E3:G3)*3))","v":{"v":0,"d":"0%"}}]
["A",3,"SENEGAL",0,0,0,0,0,0,0,0,{"v":0,"d":"0%"}]
["A",4,"HOLANDA",0,0,0,0,0,0,0,0,{"v":0,"d":"0%"}]
[]
[]
["CLASSIFICAÇÃO",null,null,"PTS","V","E","D","G.P","G.C","SLD","MANUAL","%"]
[{"$f":"A2","v":"A"},"1º",{"$f":"_xlfn.SORTBY(C2:K5,D2:D5,-1,J2:J5,-1,H2:H5,-1,K2:K5,-1)","v":"CATAR"},0,0,0,0,0,0,0,0,{"$f":"IF(SUM(E9:G9)=0,0,D9/(SUM(E9:G9)*3))","v":{"v":0,"d":"0%"}}]
[{"$f":"A3","v":"A"},"2º","EQUADOR",0,0,0,0,0,0,0,0,{"$f":"IF(SUM(E10:G10)=0,0,D10/(SUM(E10:G10)*3))","v":{"v":0,"d":"0%"}}]
[{"$f":"A4","v":"A"},"3º","SENEGAL",0,0,0,0,0,0,0,0,{"v":0,"d":"0%"}]
[{"$f":"A5","v":"A"},"4º","HOLANDA",0,0,0,0,0,0,0,0,{"v":0,"d":"0%"}]

{"sheet":"MATA MATA","index":3,"n_rows":33,"n_cols":47,"rows_kept":33,"merged":[[0,1,0,4],[0,7,0,10],[0,13,0,16],[0,19,0,27],[0,30,0,33],[0,36,0,39],[0,42,0,45],[2,1,2,4],[2,42,2,45],[3,0,4,0],[3,1,4,1],[3,2,4,2],[3,3,4,3],[3,4,4,4],[3,42,4,42],[3,43,4,43],[3,44,4,44],[3,45,4,45],[3,46,4,46],[4,7,4,10],[4,36,4,39],[5,1,6,1],[5,7,6,7],[5,8,6,8],[5,9,6,9],[5,10,6,10],[5,36,6,36],[5,37,6,37],[5,38,6,38],[5,39,6,39],[5,45,6,45],[7,0,8,0],[7,1,8,1],[7,2,8,2],[7,3,8,3],[7,4,8,4],[7,42,8,42],[7,43,8,43],[7,44,8,44],[7,45,8,45],[7,46,8,46],[8,13,8,16],[8,30,8,33],[9,7,10,10],[9,13,10,13],[9,14,10,14],[9,15,10,15],[9,16,10,16],[9,30,10,30],[9,31,10,31],[9,32,10,32],[9,33,10,33],[9,36,10,39],[10,1,10,4],[10,42,10,45],[11,0,12,0],[11,1,12,1],[11,2,12,2],[11,3,12,3],[11,4,12,4],[11,42,12,42],[11,43,12,43],[11,44,12,44],[11,45,12,45],[11,46,12,46],[13,1,14,1],[13,7,14,7],[13,8,14,8],[13,9,14,9],[13,10,14,10],[13,36,14,36],[13,37,14,37],[13,38,14,38],[13,39,14,39],[13,45,14,45],[14,19,15,27],[15,0,16,0],[15,1,16,1],[15,2,16,2],[15,3,16,3],[15,4,16,4],[15,42,16,42],[15,43,16,43],[15,44,16,44],[15,45,16,45],[15,46,16,46],[16,19,16,27],[17,13,18,17],[17,19,18,19],[17,20,18,20],[17,21,18,21],[17,22,18,22],[17,24,18,24],[17,25,18,25],[17,26,18,26],[17,27,18,27],[17,30,18,33],[18,1,18,4],[18,42,18,45],[19,0,20,0],[19,1,20,1],[19,2,20,2],[19,3,20,3],[19,4,20,4],[19,42,20,42],[19,43,20,43],[19,44,20,44],[19,45,20,45],[19,46,20,46],[20,7,20,10],[20,19,21,27],[20,36,20,39],[21,1,22,1],[21,7,22,7],[21,8,22,8],[21,9,22,9],[21,10,22,10],[21,36,22,36],[21,37,22,37],[21,38,22,38],[21,39,22,39],[21,45,22,45],[23,0,24,0],[23,1,24,1],[23,2,24,2],[23,3,24,3],[23,4,24,4],[23,42,24,42],[23,43,24,43],[23,44,24,44],[23,45,24,45],[23,46,24,46],[25,7,26,10],[25,13,26,13],[25,14,26,14],[25,15,26,15],[25,16,26,16],[25,30,26,30],[25,31,26,31],[25,32,26,32],[25,33,26,33],[25,36,26,39],[26,1,26,4],[26,19,27,27],[26,42,26,45],[27,0,28,0],[27,1,28,1],[27,2,28,2],[27,3,28,3],[27,4,28,4],[27,42,28,42],[27,43,28,43],[27,44,28,44],[27,45,28,45],[27,46,28,46],[28,19,28,27],[29,1,30,1],[29,7,30,7],[29,8,30,8],[29,9,30,9],[29,10,30,10],[29,19,30,19],[29,20,30,20],[29,21,30,21],[29,22,30,22],[29,24,30,24],[29,25,30,25],[29,26,30,26],[29,27,30,27],[29,36,30,36],[29,37,30,37],[29,38,30,38],[29,39,30,39],[29,45,30,45],[31,0,32,0],[31,1,32,1],[31,2,32,2],[31,3,32,3],[31,4,32,4],[31,42,32,42],[31,43,32,43],[31,44,32,44],[31,45,32,45],[31,46,32,46],[32,19,33,27]]}
[null,"Oitavas de Final",{"$nulls":5},"Quartas de final",{"$nulls":5},"Semi-final",{"$nulls":5},"DECISÕES",{"$nulls":10},"Semi-final",{"$nulls":5},"Quartas de final",{"$nulls":5},"Oitavas de Final"]
[]
[null,"2022-12-03T12:00:00",{"$nulls":40},"2022-12-04T12:00:00"]
["A1",{"$f":"IF('TABELA A'!M3<>0,'TABELA A'!L3,\"-\")","v":"-"},{"$nulls":43},{"$f":"IF('TABELA B'!M3<>0,'TABELA B'!L3,\"-\")","v":"-"},"B1"]
[{"$nulls":7},"2022-12-09T16:00:00",{"$nulls":28},"2022-12-10T16:00:00"]
[null,{"$f":"ESTÁDIOS!$BE$1","v":"Estádio Khalifa"},"90 MIN","PRO.","PEN.",null,null,{"$f":" IF(C4<>C8,IF(C4>C8,B4,B8),\nIF(D4<>D8,IF(D4>D8,B4,B8),\nIF(SUM(C4:E4)>SUM(C8:E8),B4,IF(SUM(C8:E8)>SUM(C4:E4),B8,\"-\")) ) )","v":"-"},{"$nulls":31},{"$f":" IF(AQ4<>AQ8,IF(AQ4>AQ8,AT4,AT8),\nIF(AR4<>AR8,IF(AR4>AR8,AT4,AT8),\nIF(SUM(AQ4:AS4)>SUM(AQ8:AS8),AT4,IF(SUM(AQ8:AS8)>SUM(AQ4:AS4),AT8,\"-\")) ) )","v":"-"},null,null,"90 MIN","PRO.","PEN.",{"$f":"ESTÁDIOS!$AG$1","v":"Estádio Al Thumama"}]
[null,null,"90 MIN","PRO.","PEN.",{"$nulls":37},"90 MIN","PRO.","PEN."]
["B2",{"$f":"IF('TABELA B'!M4<>0,'TABELA B'!L4,\"-\")","v":"-"},{"$nulls":6},"90 MIN","PRO.","PEN.",{"$nulls":25},"90 MIN","PRO.","PEN.",{"$nulls":6},{"$f":"IF('TABELA A'!M4<>0,'TABELA A'!L4,\"-\")","v":"-"},"A2"]
[{"$nulls":13},"2022-12-13T16:00:00",{"$nulls":16},"2022-12-14T16:00:00"]
[{"$nulls":7},{"$f":"ESTÁDIOS!$A$1","v":"Estádio Lusail"},{"$nulls":5},{"$f":" IF(I6<>I14,IF(I6>I14,H6,H14),\nIF(J6<>J14,IF(J6>J14,H6,H14),\nIF(SUM(I6:K6)>SUM(I14:K14),H6,IF(SUM(I14:K14)>SUM(I6:K6),H14,\"-\")) ) )","v":"-"},{"$nulls":19},{"$f":" IF(AK6<>AK14,IF(AK6>AK14,AN6,AN14),\nIF(AL6<>AL14,IF(AL6>AL14,AN6,AN14),\nIF(SUM(AK6:AM6)>SUM(AK14:AM14),AN6,IF(SUM(AK14:AM14)>SUM(AK6:AM6),AN14,\"-\")) ) )","v":"-"},null,null,{"$f":"ESTÁDIOS!$I$1","v":"Estádio Al Bayt"}]
[null,"2022-12-03T16:00:00",{"$nulls":40},"2022-12-04T16:00:00"]
["C1",{"$f":"IF('TABELA C'!M3<>0,'TABELA C'!L3,\"-\")","v":"-"},{"$nulls":12},"90 MIN","PRO.","PEN.",{"$nulls":13},"90 MIN","PRO.","PEN.",{"$nulls":12},{"$f":"IF('TABELA D'!M3<>0,'TABELA D'!L3,\"-\")","v":"-"},"D1"]
[{"$nulls":8},"90 MIN","PRO.","PEN.",{"$nulls":25},"90 MIN","PRO.","PEN."]
[null,{"$f":"ESTÁDIOS!$Y$1","v":"Estádio Ahmad Bin Ali"},"90 MIN","PRO.","PEN.",null,null,{"$f":" IF(C8<>C12,IF(C8>C12,B8,B12),\nIF(D8<>D12,IF(D8>D12,B8,B12),\nIF(SUM(C8:E8)>SUM(C12:E12),B8,IF(SUM(C12:E12)>SUM(C8:E8),B12,\"-\")) ) )","v":"-"},{"$nulls":31},{"$f":" IF(AQ12<>AQ16,IF(AQ12>AQ16,AT12,AT16),\nIF(AR12<>AR16,IF(AR12>AR16,AT12,AT16),\nIF(SUM(AQ12:AS12)>SUM(AQ16:AS16),AT12,IF(SUM(AQ16:AS16)>SUM(AQ12:AS12),AT16,\"-\")) ) )","v":"-"},null,null,"90 MIN","PRO.","PEN.",{"$f":"ESTÁDIOS!$I$1","v":"Estádio Al Bayt"}]
[null,null,"90 MIN","PRO.","PEN.",{"$nulls":14},"FINAL",{"$nulls":22},"90 MIN","PRO.","PEN."]
["D2",{"$f":"IF('TABELA D'!M4<>0,'TABELA D'!L4,\"-\")","v":"-"},{"$nulls":43},{"$f":"IF('TABELA C'!M4<>0,'TABELA C'!L4,\"-\")","v":"-"},"C2"]
[{"$nulls":19},"2022-12-18T12:00:00"]
[{"$nulls":13},{"$f":"ESTÁDIOS!$A$1","v":"Estádio Lusail"},{"$nulls":5},{"$f":" IF(O10<>O26,IF(O10>O26,N10,N26),\nIF(P10<>P26,IF(P10>P26,N10,N26),\nIF(SUM(O10:Q10)>SUM(O26:Q26),N10,IF(SUM(O26:Q26)>SUM(O10:Q10),N26,\"-\")) ) )","v":"-"},{"$nulls":7},{"$f":" IF(AE10<>AE26,IF(AE10>AE26,AH10,AH26),\nIF(AF10<>AF26,IF(AF10>AF26,AH10,AH26),\nIF(SUM(AE10:AG10)>SUM(AE26:AG26),AH10,IF(SUM(AE26:AG26)>SUM(AE10:AG10),AH26,\"-\")) ) )","v":"-"},null,null,{"$f":"ESTÁDIOS!$I$1","v":"Estádio Al Bayt"}]
[null,"2022-12-05T12:00:00",{"$nulls":40},"2022-12-06T12:00:00"]
["E1",{"$f":"IF('TABELA E'!M3<>0,'TABELA E'!L3,\"-\")","v":"-"},{"$nulls":18},"90 MIN","PRO.","PEN.",null,"90 MIN","PRO.","PEN.",{"$nulls":18},{"$f":"IF('TABELA F'!M3<>0,'TABELA F'!L3,\"-\")","v":"-"},"F1"]
[{"$nulls":7},"2022-12-09T12:00:00",{"$nulls":11},{"$f":"ESTÁDIOS!$A$1","v":"Estádio Lusail"},{"$nulls":16},"2022-12-10T12:00:00"]
[null,{"$f":"ESTÁDIOS!$Q$1","v":"Estádio Al Janoub"},"90 MIN","PRO.","PEN.",null,null,{"$f":" IF(C20<>C24,IF(C20>C24,B20,B24),\nIF(D20<>D24,IF(D20>D24,B20,B24),\nIF(SUM(C20:E20)>SUM(C24:E24),B20,IF(SUM(C24:E24)>SUM(C20:E20),B24,\"-\")) ) )","v":"-"},{"$nulls":31},{"$f":" IF(AQ20<>AQ24,IF(AQ20>AQ24,AT20,AT24),\nIF(AR20<>AR24,IF(AR20>AR24,AT20,AT24),\nIF(SUM(AQ20:AS20)>SUM(AQ24:AS24),AT20,IF(SUM(AQ24:AS24)>SUM(AQ20:AS20),AT24,\"-\")) ) )","v":"-"},null,null,"90 MIN","PRO.","PEN.",{"$f":"ESTÁDIOS!$AO$1","v":"Estádio Education City"}]
[null,null,"90 MIN","PRO.","PEN.",{"$nulls":37},"90 MIN","PRO.","PEN."]
["F2",{"$f":"IF('TABELA F'!M4<>0,'TABELA F'!L4,\"-\")","v":"-"},{"$nulls":6},"90 MIN","PRO.","PEN.",{"$nulls":25},"90 MIN","PRO.","PEN.",{"$nulls":6},{"$f":"IF('TABELA E'!M4<>0,'TABELA E'!L4,\"-\")","v":"-"},"E2"]
[{"$nulls":14},"90 MIN","PRO.","PEN.",{"$nulls":13},"90 MIN","PRO.","PEN."]
[{"$nulls":7},{"$f":"ESTÁDIOS!$AO$1","v":"Estádio Education City"},{"$nulls":5},{"$f":" IF(I22<>I30,IF(I22>I30,H22,H30),\nIF(J22<>J30,IF(J22>J30,H22,H30),\nIF(SUM(I22:K22)>SUM(I30:K30),H22,IF(SUM(I30:K30)>SUM(I22:K22),H30,\"-\")) ) )","v":"-"},{"$nulls":19},{"$f":"IF(SUM(AK22:AM22)>SUM(AK30:AM30),AN22,IF(SUM(AK30:AM30)>SUM(AK22:AM22),AN30,\"-\"))","v":"-"},null,null,{"$f":"ESTÁDIOS!$AG$1","v":"Estádio Al Thumama"}]
[null,"2022-12-05T16:00:00",{"$nulls":17},"DISPUTA PELO 3º LUGAR",{"$nulls":22},"2022-12-06T16:00:00"]
["G1",{"$f":"IF('TABELA G'!M3<>0,'TABELA G'!L3,\"-\")","v":"-"},{"$nulls":43},{"$f":"IF('TABELA H'!M3<>0,'TABELA H'!L3,\"-\")","v":"-"},"H1"]
[{"$nulls":8},"90 MIN","PRO.","PEN.",{"$nulls":8},"2022-12-17T12:00:00",{"$nulls":16},"90 MIN","PRO.","PEN."]
[null,{"$f":"ESTÁDIOS!$AW$1","v":"Estádio 974"},"90 MIN","PRO.","PEN.",null,null,{"$f":" IF(C24<>C28,IF(C24>C28,B24,B28),\nIF(D24<>D28,IF(D24>D28,B24,B28),\nIF(SUM(C24:E24)>SUM(C28:E28),B24,IF(SUM(C28:E28)>SUM(C24:E24),B28,\"-\")) ) )","v":"-"},{"$nulls":11},{"$f":" IF(O10<>O26,IF(O10>O26,N26,N10),\nIF(P10<>P26,IF(P10>P26,N26,N10),\nIF(SUM(O10:Q10)>SUM(O26:Q26),N26,IF(SUM(O26:Q26)>SUM(O10:Q10),N10,\"-\")) ) )","v":"-"},{"$nulls":7},{"$f":" IF(AE10<>AE26,IF(AE10>AE26,AH26,AH10),\nIF(AF10<>AF26,IF(AF10>AF26,AH26,AH10),\nIF(SUM(AE10:AG10)>SUM(AE26:AG26),AH26,IF(SUM(AE26:AG26)>SUM(AE10:AG10),AH10,\"-\")) ) )","v":"-"},{"$nulls":11},{"$f":" IF(AQ28<>AQ32,IF(AQ28>AQ32,AT28,AT32),\nIF(AR28<>AR32,IF(AR28>AR32,AT28,AT32),\nIF(SUM(AQ28:AS28)>SUM(AQ32:AS32),AT28,IF(SUM(AQ32:AS32)>SUM(AQ28:AS28),AT32,\"-\")) ) )","v":"-"},null,null,"90 MIN","PRO.","PEN.",{"$f":"ESTÁDIOS!$A$1","v":"Estádio Lusail"}]
[null,null,"90 MIN","PRO.","PEN.",{"$nulls":37},"90 MIN","PRO.","PEN."]
["H2",{"$f":"IF('TABELA H'!M4<>0,'TABELA H'!L4,\"-\")","v":"-"},{"$nulls":18},"90 MIN","PRO.","PEN.",null,"90 MIN","PRO.","PEN.",{"$nulls":18},{"$f":"IF('TABELA G'!M4<>0,'TABELA G'!L4,\"-\")","v":"-"},"G2"]
[{"$nulls":19},{"$f":"ESTÁDIOS!$BE$1","v":"Estádio Khalifa"}]

{"sheet":"PAÍS","index":4,"n_rows":16,"n_cols":9,"rows_kept":16,"merged":[[0,0,0,1],[2,0,3,0],[2,1,3,1],[2,2,3,2],[2,3,3,3],[2,4,3,4],[2,5,3,5],[2,6,3,6],[2,7,3,7],[2,8,3,8],[7,2,8,2],[11,2,12,2]]}
["PAÍS",null,{"$error":"#VALUE!"},{"$f":"_FV(C1,\"Imagem\")","v":{"$error":"#VALUE!"}}]
[]
["ABREV.","MOEDA","CAPITAL","DDI","POPULAÇÃO","EXPECT. VIDA (anos)","HINO NACIONAL","IDIOMA OFICIAL","LÍDERES"]
[]
[{"$f":"_FV(C1,\"Abreviação\")","v":"BR"},{"$f":"_FV(C1,\"Código da moeda\",TRUE)","v":"BRL"},{"$f":"_FV(C1,\"Capital/Maior Cidade\",TRUE)","v":{"$error":"#VALUE!"}},{"$f":"_FV(C1,\"Código de chamada\",TRUE)","v":55},{"$f":"_FV(C1,\"População\")","v":212559417},{"$f":"_FV(C1,\"Expectativa de vida\",TRUE)","v":75.672},{"$f":"_FV(C1,\"Hino nacional\",TRUE)","v":"Hino Nacional Brasileiro"},{"$f":"_FV(C1,\"Idioma oficial\",TRUE)","v":"Língua portuguesa"},{"$f":"_FV(C1,\"Líder(es)\",TRUE)","v":{"$error":"#VALUE!"}}]
[{"$nulls":8},"Milton Ribeiro (Ministro)"]
[{"$nulls":8},"Eduardo Pazuello (Ministro)"]
[null,null,"MAIOR CIDADE",{"$nulls":5},{"$error":"#VALUE!"}]
[]
[null,null,{"$f":"_FV(C1,\"Maior cidade\",TRUE)","v":{"$error":"#VALUE!"}}]
[]
[null,null,"FUSO HORÁRIO"]
[]
[null,null,{"$f":"_FV(C1,\"Fusos horários\",TRUE)","v":"Fernando de Noronha Time Zone"}]
[null,null,"Brasília Time Zone"]
[null,null,"Amazon Time Zone"]

{"sheet":"TABELA A","index":5,"n_rows":28,"n_cols":20,"rows_kept":28,"merged":[[0,0,0,8],[0,11,0,19],[7,1,7,2],[7,3,7,4],[7,5,7,6],[7,7,7,8],[7,9,7,10],[7,12,7,13],[7,14,7,17],[8,1,8,2],[8,5,8,6],[8,7,8,8],[8,9,8,10],[8,12,8,13],[8,14,8,17],[9,1,9,2],[9,5,9,6],[9,7,9,8],[9,9,9,10],[9,12,9,13],[9,14,9,17],[10,1,10,2],[10,5,10,6],[10,7,10,8],[10,9,10,10],[10,12,10,13],[10,14,10,17],[11,1,11,2],[11,5,11,6],[11,7,11,8],[11,9,11,10],[11,12,11,13],[11,14,11,17],[12,1,12,2],[12,5,12,6],[12,7,12,8],[12,9,12,10],[12,12,12,13],[12,14,12,17],[13,1,13,2],[13,5,13,6],[13,7,13,8],[13,9,13,10],[13,12,13,13],[13,14,13,17],[15,1,15,3],[22,1,22,3]]}
["GRUPO A - Definição",{"$nulls":10},"GRUPO A - Classificação"]
["PAÍS","PTS","V","E","D","G.P","G.C","SLD","MANUAL",null,null,"PAÍS","PTS","V","E","D","G.P","G.C","SLD","MANUAL"]
["CATAR",{"$f":"C3*3+D3","v":0},{"$f":"COUNTIFS(H$9:H$14,$A3)","v":0},{"$f":"COUNTIFS(L$9:L$14,$A3)+COUNTIFS(M$9:M$14,$A3)","v":0},{"$f":"COUNTIFS(J$9:J$14,$A3)","v":0},{"$f":"SUMIFS($E$9:$E$14,$F$9:$F$14,$A3)+SUMIFS($D$9:$D$14,$B$9:$B$14,$A3)","v":0},{"$f":"SUMIFS($E$9:$E$14,$B$9:$B$14,$A3)+SUMIFS($D$9:$D$14,$F$9:$F$14,$A3)","v":0},{"$f":"F3-G3","v":0},null,null,1,{"$f":"_xlfn.SORTBY(A3:I6,B3:B6,-1,H3:H6,-1,F3:F6,-1,I3:I6,-1)","v":"CATAR"},0,0,0,0,0,0,0,0]
["EQUADOR",{"$f":"C4*3+D4","v":0},{"$f":"COUNTIFS(H$9:H$14,A4)","v":0},{"$f":"COUNTIFS(L$9:L$14,$A4)+COUNTIFS(M$9:M$14,$A4)","v":0},{"$f":"COUNTIFS(J$9:J$14,$A4)","v":0},{"$f":"SUMIFS($E$9:$E$14,$F$9:$F$14,$A4)+SUMIFS($D$9:$D$14,$B$9:$B$14,$A4)","v":0},{"$f":"SUMIFS($E$9:$E$14,$B$9:$B$14,$A4)+SUMIFS($D$9:$D$14,$F$9:$F$14,$A4)","v":0},{"$f":"F4-G4","v":0},null,null,2,"EQUADOR",0,0,0,0,0,0,0,0]
["SENEGAL",0,{"$f":"COUNTIFS(H$9:H$14,A5)","v":0},{"$f":"COUNTIFS(L$9:L$14,$A5)+COUNTIFS(M$9:M$14,$A5)","v":0},{"$f":"COUNTIFS(J$9:J$14,$A5)","v":0},{"$f":"SUMIFS($E$9:$E$14,$F$9:$F$14,$A5)+SUMIFS($D$9:$D$14,$B$9:$B$14,$A5)","v":0},{"$f":"SUMIFS($E$9:$E$14,$B$9:$B$14,$A5)+SUMIFS($D$9:$D$14,$F$9:$F$14,$A5)","v":0},0,null,null,3,"SENEGAL",0,0,0,0,0,0,0,0]
["HOLANDA",0,{"$f":"COUNTIFS(H$9:H$14,A6)","v":0},{"$f":"COUNTIFS(L$9:L$14,$A6)+COUNTIFS(M$9:M$14,$A6)","v":0},{"$f":"COUNTIFS(J$9:J$14,$A6)","v":0},{"$f":"SUMIFS($E$9:$E$14,$F$9:$F$14,$A6)+SUMIFS($D$9:$D$14,$B$9:$B$14,$A6)","v":0},{"$f":"SUMIFS($E$9:$E$14,$B$9:$B$14,$A6)+SUMIFS($D$9:$D$14,$F$9:$F$14,$A6)","v":0},0,null,null,4,"HOLANDA",0,0,0,0,0,0,0,0]
[]
["HORÁRIO","TIME 1",null,"PLACAR",null,"TIME 2",null,"VENCEDOR",null,"PERDEDOR",null,"EMPATE","EMPATE",null,"ESTÁDIO",{"$nulls":3},"#"]
["2022-11-20T13:00:00","CATAR",{"$nulls":3},"EQUADOR",null,{"$f":"IF($D9>$E9,$B9,IF($E9>$D9,$F9,\"-\"))","v":"-"},null,{"$f":"IF($D9<$E9,$B9,IF($E9<$D9,$F9,\"-\"))","v":"-"},null,{"$f":"IF(OR(ISBLANK($D9),ISBLANK($E9)),\"-\",IF($D9=$E9,B9,\"-\"))","v":"-"},{"$f":"IF(OR(ISBLANK($D9),ISBLANK($E9)),\"-\",IF($D9=$E9,F9,\"-\"))","v":"-"},null,{"$f":"ESTÁDIOS!$I$1","v":"Estádio Al Bayt"},{"$nulls":3},1]
["2022-11-21T13:00:00","SENEGAL",{"$nulls":3},"HOLANDA",null,"-",null,"-",null,"-","-",null,{"$f":"ESTÁDIOS!$AG$1","v":"Estádio Al Thumama"},{"$nulls":3},1]
["2022-11-25T10:00:00","CATAR",{"$nulls":3},"SENEGAL",null,"-",null,"-",null,"-","-",null,{"$f":"ESTÁDIOS!$AG$1","v":"Estádio Al Thumama"},{"$nulls":3},2]
["2022-11-25T13:00:00","HOLANDA",{"$nulls":3},"EQUADOR",null,"-",null,"-",null,"-","-",null,{"$f":"ESTÁDIOS!$BE$1","v":"Estádio Khalifa"},{"$nulls":3},2]
["2022-11-29T12:00:00","EQUADOR",{"$nulls":3},"SENEGAL",null,"-",null,"-",null,"-","-",null,{"$f":"ESTÁDIOS!$BE$1","v":"Estádio Khalifa"},{"$nulls":3},3]
["2022-11-29T12:00:00","HOLANDA",{"$nulls":3},"CATAR",null,"-",null,"-",null,"-","-",null,{"$f":"ESTÁDIOS!$I$1","v":"Estádio Al Bayt"},{"$nulls":3},3]
[]
[null,"PONTOS POR RODADA"]
[{"$f":"A$2","v":"PAÍS"},1,2,3]
[{"$f":"L3","v":"CATAR"},{"$f":"IF( ISNA( MATCH($A18,$H$9:$H$10,0)),  IF( ISNA( MATCH($A18,$L$9:$L$10,0)  ),\n  IF(ISNA( MATCH($A18,$M$9:$M$10,0)), 0, 1 ),  1), 3)","v":0},{"$f":"IF( ISNA( MATCH($A18,$H$11:$H$12,0)),  IF( ISNA( MATCH($A18,$L$11:$L$12,0)  ),\n  IF(ISNA( MATCH($A18,$M$11:$M$12,0)), 0, 1 ),  1), 3)","v":0},{"$f":"IF( ISNA( MATCH($A18,$H$13:$H$14,0)),  IF( ISNA( MATCH($A18,$L$13:$L$14,0)  ),\n  IF(ISNA( MATCH($A18,$M$13:$M$14,0)), 0, 1 ),  1), 3)","v":0}]
[{"$f":"L4","v":"EQUADOR"},{"$f":"IF( ISNA( MATCH(A19,H$9:H$10,0)),  IF( ISNA( MATCH(A19,L$9:L$10,0)  ),\n  IF(ISNA( MATCH(A19,M$9:M$10,0)), 0, 1 ),  1), 3)","v":0},{"$f":"IF( ISNA( MATCH($A19,$H$11:$H$12,0)),  IF( ISNA( MATCH($A19,$L$11:$L$12,0)  ),\n  IF(ISNA( MATCH($A19,$M$11:$M$12,0)), 0, 1 ),  1), 3)","v":0},{"$f":"IF( ISNA( MATCH($A19,$H$13:$H$14,0)),  IF( ISNA( MATCH($A19,$L$13:$L$14,0)  ),\n  IF(ISNA( MATCH($A19,$M$13:$M$14,0)), 0, 1 ),  1), 3)","v":0}]
[{"$f":"L5","v":"SENEGAL"},{"$f":"IF( ISNA( MATCH(A20,H$9:H$10,0)),  IF( ISNA( MATCH(A20,L$9:L$10,0)  ),\n  IF(ISNA( MATCH(A20,M$9:M$10,0)), 0, 1 ),  1), 3)","v":0},{"$f":"IF( ISNA( MATCH($A20,$H$11:$H$12,0)),  IF( ISNA( MATCH($A20,$L$11:$L$12,0)  ),\n  IF(ISNA( MATCH($A20,$M$11:$M$12,0)), 0, 1 ),  1), 3)","v":0},0]
[{"$f":"L6","v":"HOLANDA"},{"$f":"IF( ISNA( MATCH(A21,H$9:H$10,0)),  IF( ISNA( MATCH(A21,L$9:L$10,0)  ),\n  IF(ISNA( MATCH(A21,M$9:M$10,0)), 0, 1 ),  1), 3)","v":0},{"$f":"IF( ISNA( MATCH($A21,$H$11:$H$12,0)),  IF( ISNA( MATCH($A21,$L$11:$L$12,0)  ),\n  IF(ISNA( MATCH($A21,$M$11:$M$12,0)), 0, 1 ),  1), 3)","v":0},0]
[]
[null,"PROGRESSO"]
[{"$f":"A$2","v":"PAÍS"},1,2,3]
[{"$f":"A18","v":"CATAR"},0,{"$f":"B25+C18","v":0},0]
["EQUADOR",0,0,0]
["SENEGAL",0,0,0]
["HOLANDA",0,0,0]

{"sheet":"TABELA B","index":6,"n_rows":28,"n_cols":20,"rows_kept":28,"merged":[[0,0,0,8],[0,11,0,19],[7,1,7,2],[7,3,7,4],[7,5,7,6],[7,7,7,8],[7,9,7,10],[7,12,7,13],[7,14,7,17],[8,1,8,2],[8,5,8,6],[8,7,8,8],[8,9,8,10],[8,12,8,13],[8,14,8,17],[9,1,9,2],[9,5,9,6],[9,7,9,8],[9,9,9,10],[9,12,9,13],[9,14,9,17],[10,1,10,2],[10,5,10,6],[10,7,10,8],[10,9,10,10],[10,12,10,13],[10,14,10,17],[11,1,11,2],[11,5,11,6],[11,7,11,8],[11,9,11,10],[11,12,11,13],[11,14,11,17],[12,1,12,2],[12,5,12,6],[12,7,12,8],[12,9,12,10],[12,12,12,13],[12,14,12,17],[13,1,13,2],[13,5,13,6],[13,7,13,8],[13,9,13,10],[13,12,13,13],[13,14,13,17],[15,1,15,3],[22,1,22,3]]}
["GRUPO B - Definição",{"$nulls":10},"GRUPO B - Classificação"]
["PAÍS","PTS","V","E","D","G.P","G.C","SLD","MANUAL",null,null,"PAÍS","PTS","V","E","D","G.P","G.C","SLD","MANUAL"]
["INGLATERRA",{"$f":"C3*3+D3","v":0},{"$f":"COUNTIFS(H$9:H$14,$A3)","v":0},{"$f":"COUNTIFS(L$9:L$14,$A3)+COUNTIFS(M$9:M$14,$A3)","v":0},{"$f":"COUNTIFS(J$9:J$14,$A3)","v":0},{"$f":"SUMIFS($E$9:$E$14,$F$9:$F$14,$A3)+SUMIFS($D$9:$D$14,$B$9:$B$14,$A3)","v":0},{"$f":"SUMIFS($E$9:$E$14,$B$9:$B$14,$A3)+SUMIFS($D$9:$D$14,$F$9:$F$14,$A3)","v":0},{"$f":"F3-G3","v":0},null,null,1,{"$f":"_xlfn.SORTBY(A3:I6,B3:B6,-1,H3:H6,-1,F3:F6,-1,I3:I6,-1)","v":"INGLATERRA"},0,0,0,0,0,0,0,0]
["IRÃ",{"$f":"C4*3+D4","v":0},{"$f":"COUNTIFS(H$9:H$14,A4)","v":0},{"$f":"COUNTIFS(L$9:L$14,$A4)+COUNTIFS(M$9:M$14,$A4)","v":0},{"$f":"COUNTIFS(J$9:J$14,$A4)","v":0},{"$f":"SUMIFS($E$9:$E$14,$F$9:$F$14,$A4)+SUMIFS($D$9:$D$14,$B$9:$B$14,$A4)","v":0},{"$f":"SUMIFS($E$9:$E$14,$B$9:$B$14,$A4)+SUMIFS($D$9:$D$14,$F$9:$F$14,$A4)","v":0},{"$f":"F4-G4","v":0},null,null,2,"IRÃ",0,0,0,0,0,0,0,0]
["ESTADOS UNIDOS",0,{"$f":"COUNTIFS(H$9:H$14,A5)","v":0},{"$f":"COUNTIFS(L$9:L$14,$A5)+COUNTIFS(M$9:M$14,$A5)","v":0},{"$f":"COUNTIFS(J$9:J$14,$A5)","v":0},{"$f":"SUMIFS($E$9:$E$14,$F$9:$F$14,$A5)+SUMIFS($D$9:$D$14,$B$9:$B$14,$A5)","v":0},{"$f":"SUMIFS($E$9:$E$14,$B$9:$B$14,$A5)+SUMIFS($D$9:$D$14,$F$9:$F$14,$A5)","v":0},0,null,null,3,"ESTADOS UNIDOS",0,0,0,0,0,0,0,0]
["PAÍS DE GALES",0,{"$f":"COUNTIFS(H$9:H$14,A6)","v":0},{"$f":"COUNTIFS(L$9:L$14,$A6)+COUNTIFS(M$9:M$14,$A6)","v":0},{"$f":"COUNTIFS(J$9:J$14,$A6)","v":0},{"$f":"SUMIFS($E$9:$E$14,$F$9:$F$14,$A6)+SUMIFS($D$9:$D$14,$B$9:$B$14,$A6)","v":0},{"$f":"SUMIFS($E$9:$E$14,$B$9:$B$14,$A6)+SUMIFS($D$9:$D$14,$F$9:$F$14,$A6)","v":0},0,null,null,4,"PAÍS DE GALES",0,0,0,0,0,0,0,0]
[]
["HORÁRIO","TIME 1",null,"PLACAR",null,"TIME 2",null,"VENCEDOR",null,"PERDEDOR",null,"EMPATE","EMPATE",null,"ESTÁDIO",{"$nulls":3},"#"]
["2022-11-21T10:00:00","INGLATERRA",{"$nulls":3},"IRÃ",null,{"$f":"IF($D9>$E9,$B9,IF($E9>$D9,$F9,\"-\"))","v":"-"},null,{"$f":"IF($D9<$E9,$B9,IF($E9<$D9,$F9,\"-\"))","v":"-"},null,{"$f":"IF(OR(ISBLANK($D9),ISBLANK($E9)),\"-\",IF($D9=$E9,B9,\"-\"))","v":"-"},{"$f":"IF(OR(ISBLANK($D9),ISBLANK($E9)),\"-\",IF($D9=$E9,F9,\"-\"))","v":"-"},null,{"$f":"ESTÁDIOS!$BE$1","v":"Estádio Khalifa"},{"$nulls":3},1]
["2022-11-21T16:00:00","ESTADOS UNIDOS",{"$nulls":3},"PAÍS DE GALES",null,"-",null,"-",null,"-","-",null,{"$f":"ESTÁDIOS!$Y$1","v":"Estádio Ahmad Bin Ali"},{"$nulls":3},1]
["2022-11-25T07:00:00","PAÍS DE GALES",{"$nulls":3},"IRÃ",null,"-",null,"-",null,"-","-",null,{"$f":"ESTÁDIOS!$Y$1","v":"Estádio Ahmad Bin Ali"},{"$nulls":3},2]
["2022-11-25T10:00:00","INGLATERRA",{"$nulls":3},"ESTADOS UNIDOS",null,"-",null,"-",null,"-","-",null,{"$f":"ESTÁDIOS!$I$1","v":"Estádio Al Bayt"},{"$nulls":3},2]
["2022-11-29T16:00:00","IRÃ",{"$nulls":3},"ESTADOS UNIDOS",null,"-",null,"-",null,"-","-",null,{"$f":"ESTÁDIOS!$AG$1","v":"Estádio Al Thumama"},{"$nulls":3},3]
["2022-11-29T16:00:00","PAÍS DE GALES",{"$nulls":3},"INGLATERRA",null,"-",null,"-",null,"-","-",null,{"$f":"ESTÁDIOS!$Y$1","v":"Estádio Ahmad Bin Ali"},{"$nulls":3},3]
[]
[null,"PONTOS POR RODADA"]
[{"$f":"A$2","v":"PAÍS"},1,2,3]
[{"$f":"L3","v":"INGLATERRA"},{"$f":"IF( ISNA( MATCH($A18,$H$9:$H$10,0)),  IF( ISNA( MATCH($A18,$L$9:$L$10,0)  ),\n  IF(ISNA( MATCH($A18,$M$9:$M$10,0)), 0, 1 ),  1), 3)","v":0},{"$f":"IF( ISNA( MATCH($A18,$H$11:$H$12,0)),  IF( ISNA( MATCH($A18,$L$11:$L$12,0)  ),\n  IF(ISNA( MATCH($A18,$M$11:$M$12,0)), 0, 1 ),  1), 3)","v":0},{"$f":"IF( ISNA( MATCH($A18,$H$13:$H$14,0)),  IF( ISNA( MATCH($A18,$L$13:$L$14,0)  ),\n  IF(ISNA( MATCH($A18,$M$13:$M$14,0)), 0, 1 ),  1), 3)","v":0}]
[{"$f":"L4","v":"IRÃ"},{"$f":"IF( ISNA( MATCH(A19,H$9:H$10,0)),  IF( ISNA( MATCH(A19,L$9:L$10,0)  ),\n  IF(ISNA( MATCH(A19,M$9:M$10,0)), 0, 1 ),  1), 3)","v":0},{"$f":"IF( ISNA( MATCH($A19,$H$11:$H$12,0)),  IF( ISNA( MATCH($A19,$L$11:$L$12,0)  ),\n  IF(ISNA( MATCH($A19,$M$11:$M$12,0)), 0, 1 ),  1), 3)","v":0},{"$f":"IF( ISNA( MATCH($A19,$H$13:$H$14,0)),  IF( ISNA( MATCH($A19,$L$13:$L$14,0)  ),\n  IF(ISNA( MATCH($A19,$M$13:$M$14,0)), 0, 1 ),  1), 3)","v":0}]
[{"$f":"L5","v":"ESTADOS UNIDOS"},{"$f":"IF( ISNA( MATCH(A20,H$9:H$10,0)),  IF( ISNA( MATCH(A20,L$9:L$10,0)  ),\n  IF(ISNA( MATCH(A20,M$9:M$10,0)), 0, 1 ),  1), 3)","v":0},{"$f":"IF( ISNA( MATCH($A20,$H$11:$H$12,0)),  IF( ISNA( MATCH($A20,$L$11:$L$12,0)  ),\n  IF(ISNA( MATCH($A20,$M$11:$M$12,0)), 0, 1 ),  1), 3)","v":0},0]
[{"$f":"L6","v":"PAÍS DE GALES"},{"$f":"IF( ISNA( MATCH(A21,H$9:H$10,0)),  IF( ISNA( MATCH(A21,L$9:L$10,0)  ),\n  IF(ISNA( MATCH(A21,M$9:M$10,0)), 0, 1 ),  1), 3)","v":0},{"$f":"IF( ISNA( MATCH($A21,$H$11:$H$12,0)),  IF( ISNA( MATCH($A21,$L$11:$L$12,0)  ),\n  IF(ISNA( MATCH($A21,$M$11:$M$12,0)), 0, 1 ),  1), 3)","v":0},0]
[]
[null,"PROGRESSO"]
[{"$f":"A$2","v":"PAÍS"},1,2,3]
[{"$f":"A18","v":"INGLATERRA"},0,{"$f":"B25+C18","v":0},0]
["IRÃ",0,0,0]
["ESTADOS UNIDOS",0,0,0]
["PAÍS DE GALES",0,0,0]

{"sheet":"TABELA C","index":7,"n_rows":28,"n_cols":20,"rows_kept":28,"merged":[[0,0,0,8],[0,11,0,19],[7,1,7,2],[7,3,7,4],[7,5,7,6],[7,7,7,8],[7,9,7,10],[7,12,7,13],[7,14,7,17],[8,1,8,2],[8,5,8,6],[8,7,8,8],[8,9,8,10],[8,12,8,13],[8,14,8,17],[9,1,9,2],[9,5,9,6],[9,7,9,8],[9,9,9,10],[9,12,9,13],[9,14,9,17],[10,1,10,2],[10,5,10,6],[10,7,10,8],[10,9,10,10],[10,12,10,13],[10,14,10,17],[11,1,11,2],[11,5,11,6],[11,7,11,8],[11,9,11,10],[11,12,11,13],[11,14,11,17],[12,1,12,2],[12,5,12,6],[12,7,12,8],[12,9,12,10],[12,12,12,13],[12,14,12,17],[13,1,13,2],[13,5,13,6],[13,7,13,8],[13,9,13,10],[13,12,13,13],[13,14,13,17],[15,1,15,3],[22,1,22,3]]}
["GRUPO C - Definição",{"$nulls":10},"GRUPO C - Classificação"]
["PAÍS","PTS","V","E","D","G.P","G.C","SLD","MANUAL",null,null,"PAÍS","PTS","V","E","D","G.P","G.C","SLD","MANUAL"]
["ARGENTINA",{"$f":"C3*3+D3","v":0},{"$f":"COUNTIFS(H$9:H$14,$A3)","v":0},{"$f":"COUNTIFS(L$9:L$14,$A3)+COUNTIFS(M$9:M$14,$A3)","v":0},{"$f":"COUNTIFS(J$9:J$14,$A3)","v":0},{"$f":"SUMIFS($E$9:$E$14,$F$9:$F$14,$A3)+SUMIFS($D$9:$D$14,$B$9:$B$14,$A3)","v":0},{"$f":"SUMIFS($E$9:$E$14,$B$9:$B$14,$A3)+SUMIFS($D$9:$D$14,$F$9:$F$14,$A3)","v":0},{"$f":"F3-G3","v":0},null,null,1,{"$f":"_xlfn.SORTBY(A3:I6,B3:B6,-1,H3:H6,-1,F3:F6,-1,I3:I6,-1)","v":"ARGENTINA"},0,0,0,0,0,0,0,0]
["ARÁBIA SAUDITA",{"$f":"C4*3+D4","v":0},{"$f":"COUNTIFS(H$9:H$14,A4)","v":0},{"$f":"COUNTIFS(L$9:L$14,$A4)+COUNTIFS(M$9:M$14,$A4)","v":0},{"$f":"COUNTIFS(J$9:J$14,$A4)","v":0},{"$f":"SUMIFS($E$9:$E$14,$F$9:$F$14,$A4)+SUMIFS($D$9:$D$14,$B$9:$B$14,$A4)","v":0},{"$f":"SUMIFS($E$9:$E$14,$B$9:$B$14,$A4)+SUMIFS($D$9:$D$14,$F$9:$F$14,$A4)","v":0},{"$f":"F4-G4","v":0},null,null,2,"ARÁBIA SAUDITA",0,0,0,0,0,0,0,0]
["MÉXICO",0,{"$f":"COUNTIFS(H$9:H$14,A5)","v":0},{"$f":"COUNTIFS(L$9:L$14,$A5)+COUNTIFS(M$9:M$14,$A5)","v":0},{"$f":"COUNTIFS(J$9:J$14,$A5)","v":0},{"$f":"SUMIFS($E$9:$E$14,$F$9:$F$14,$A5)+SUMIFS($D$9:$D$14,$B$9:$B$14,$A5)","v":0},{"$f":"SUMIFS($E$9:$E$14,$B$9:$B$14,$A5)+SUMIFS($D$9:$D$14,$F$9:$F$14,$A5)","v":0},0,null,null,3,"MÉXICO",0,0,0,0,0,0,0,0]
["POLÔNIA",0,{"$f":"COUNTIFS(H$9:H$14,A6)","v":0},{"$f":"COUNTIFS(L$9:L$14,$A6)+COUNTIFS(M$9:M$14,$A6)","v":0},{"$f":"COUNTIFS(J$9:J$14,$A6)","v":0},{"$f":"SUMIFS($E$9:$E$14,$F$9:$F$14,$A6)+SUMIFS($D$9:$D$14,$B$9:$B$14,$A6)","v":0},{"$f":"SUMIFS($E$9:$E$14,$B$9:$B$14,$A6)+SUMIFS($D$9:$D$14,$F$9:$F$14,$A6)","v":0},0,null,null,4,"POLÔNIA",0,0,0,0,0,0,0,0]
[]
["HORÁRIO","TIME 1",null,"PLACAR",null,"TIME 2",null,"VENCEDOR",null,"PERDEDOR",null,"EMPATE","EMPATE",null,"ESTÁDIO",{"$nulls":3},"#"]
["2022-11-22T07:00:00","ARGENTINA",{"$nulls":3},"ARÁBIA SAUDITA",null,{"$f":"IF($D9>$E9,$B9,IF($E9>$D9,$F9,\"-\"))","v":"-"},null,{"$f":"IF($D9<$E9,$B9,IF($E9<$D9,$F9,\"-\"))","v":"-"},null,{"$f":"IF(OR(ISBLANK($D9),ISBLANK($E9)),\"-\",IF($D9=$E9,B9,\"-\"))","v":"-"},{"$f":"IF(OR(ISBLANK($D9),ISBLANK($E9)),\"-\",IF($D9=$E9,F9,\"-\"))","v":"-"},null,{"$f":"ESTÁDIOS!$A$1","v":"Estádio Lusail"},{"$nulls":3},1]
["2022-11-22T13:00:00","MÉXICO",{"$nulls":3},"POLÔNIA",null,"-",null,"-",null,"-","-",null,{"$f":"ESTÁDIOS!$AW$1","v":"Estádio 974"},{"$nulls":3},1]
["2022-11-26T10:00:00","POLÔNIA",{"$nulls":3},"ARÁBIA SAUDITA",null,"-",null,"-",null,"-","-",null,{"$f":"ESTÁDIOS!$AO$1","v":"Estádio Education City"},{"$nulls":3},2]
["2022-11-26T16:00:00","ARGENTINA",{"$nulls":3},"MÉXICO",null,"-",null,"-",null,"-","-",null,{"$f":"ESTÁDIOS!$A$1","v":"Estádio Lusail"},{"$nulls":3},2]
["2022-11-30T16:00:00","POLÔNIA",{"$nulls":3},"ARGENTINA",null,"-",null,"-",null,"-","-",null,{"$f":"ESTÁDIOS!$AW$1","v":"Estádio 974"},{"$nulls":3},3]
["2022-11-30T16:00:00","ARÁBIA SAUDITA",{"$nulls":3},"MÉXICO",null,"-",null,"-",null,"-","-",null,{"$f":"ESTÁDIOS!$A$1","v":"Estádio Lusail"},{"$nulls":3},3]
[]
[null,"PONTOS POR RODADA"]
[{"$f":"A$2","v":"PAÍS"},1,2,3]
[{"$f":"L3","v":"ARGENTINA"},{"$f":"IF( ISNA( MATCH($A18,$H$9:$H$10,0)),  IF( ISNA( MATCH($A18,$L$9:$L$10,0)  ),\n  IF(ISNA( MATCH($A18,$M$9:$M$10,0)), 0, 1 ),  1), 3)","v":0},{"$f":"IF( ISNA( MATCH($A18,$H$11:$H$12,0)),  IF( ISNA( MATCH($A18,$L$11:$L$12,0)  ),\n  IF(ISNA( MATCH($A18,$M$11:$M$12,0)), 0, 1 ),  1), 3)","v":0},{"$f":"IF( ISNA( MATCH($A18,$H$13:$H$14,0)),  IF( ISNA( MATCH($A18,$L$13:$L$14,0)  ),\n  IF(ISNA( MATCH($A18,$M$13:$M$14,0)), 0, 1 ),  1), 3)","v":0}]
[{"$f":"L4","v":"ARÁBIA SAUDITA"},{"$f":"IF( ISNA( MATCH(A19,H$9:H$10,0)),  IF( ISNA( MATCH(A19,L$9:L$10,0)  ),\n  IF(ISNA( MATCH(A19,M$9:M$10,0)), 0, 1 ),  1), 3)","v":0},{"$f":"IF( ISNA( MATCH($A19,$H$11:$H$12,0)),  IF( ISNA( MATCH($A19,$L$11:$L$12,0)  ),\n  IF(ISNA( MATCH($A19,$M$11:$M$12,0)), 0, 1 ),  1), 3)","v":0},{"$f":"IF( ISNA( MATCH($A19,$H$13:$H$14,0)),  IF( ISNA( MATCH($A19,$L$13:$L$14,0)  ),\n  IF(ISNA( MATCH($A19,$M$13:$M$14,0)), 0, 1 ),  1), 3)","v":0}]
[{"$f":"L5","v":"MÉXICO"},{"$f":"IF( ISNA( MATCH(A20,H$9:H$10,0)),  IF( ISNA( MATCH(A20,L$9:L$10,0)  ),\n  IF(ISNA( MATCH(A20,M$9:M$10,0)), 0, 1 ),  1), 3)","v":0},{"$f":"IF( ISNA( MATCH($A20,$H$11:$H$12,0)),  IF( ISNA( MATCH($A20,$L$11:$L$12,0)  ),\n  IF(ISNA( MATCH($A20,$M$11:$M$12,0)), 0, 1 ),  1), 3)","v":0},0]
[{"$f":"L6","v":"POLÔNIA"},{"$f":"IF( ISNA( MATCH(A21,H$9:H$10,0)),  IF( ISNA( MATCH(A21,L$9:L$10,0)  ),\n  IF(ISNA( MATCH(A21,M$9:M$10,0)), 0, 1 ),  1), 3)","v":0},{"$f":"IF( ISNA( MATCH($A21,$H$11:$H$12,0)),  IF( ISNA( MATCH($A21,$L$11:$L$12,0)  ),\n  IF(ISNA( MATCH($A21,$M$11:$M$12,0)), 0, 1 ),  1), 3)","v":0},0]
[]
[null,"PROGRESSO"]
[{"$f":"A$2","v":"PAÍS"},1,2,3]
[{"$f":"A18","v":"ARGENTINA"},0,{"$f":"B25+C18","v":0},0]
["ARÁBIA SAUDITA",0,0,0]
["MÉXICO",0,0,0]
["POLÔNIA",0,0,0]

{"sheet":"TABELA D","index":8,"n_rows":28,"n_cols":20,"rows_kept":28,"merged":[[0,0,0,8],[0,11,0,19],[7,1,7,2],[7,3,7,4],[7,5,7,6],[7,7,7,8],[7,9,7,10],[7,12,7,13],[7,14,7,17],[8,1,8,2],[8,5,8,6],[8,7,8,8],[8,9,8,10],[8,12,8,13],[8,14,8,17],[9,1,9,2],[9,5,9,6],[9,7,9,8],[9,9,9,10],[9,12,9,13],[9,14,9,17],[10,1,10,2],[10,5,10,6],[10,7,10,8],[10,9,10,10],[10,12,10,13],[10,14,10,17],[11,1,11,2],[11,5,11,6],[11,7,11,8],[11,9,11,10],[11,12,11,13],[11,14,11,17],[12,1,12,2],[12,5,12,6],[12,7,12,8],[12,9,12,10],[12,12,12,13],[12,14,12,17],[13,1,13,2],[13,5,13,6],[13,7,13,8],[13,9,13,10],[13,12,13,13],[13,14,13,17],[15,1,15,3],[22,1,22,3]]}
["GRUPO D - Definição",{"$nulls":10},"GRUPO D - Classificação"]
["PAÍS","PTS","V","E","D","G.P","G.C","SLD","MANUAL",null,null,"PAÍS","PTS","V","E","D","G.P","G.C","SLD","MANUAL"]
["FRANÇA",{"$f":"C3*3+D3","v":0},{"$f":"COUNTIFS(H$9:H$14,$A3)","v":0},{"$f":"COUNTIFS(L$9:L$14,$A3)+COUNTIFS(M$9:M$14,$A3)","v":0},{"$f":"COUNTIFS(J$9:J$14,$A3)","v":0},{"$f":"SUMIFS($E$9:$E$14,$F$9:$F$14,$A3)+SUMIFS($D$9:$D$14,$B$9:$B$14,$A3)","v":0},{"$f":"SUMIFS($E$9:$E$14,$B$9:$B$14,$A3)+SUMIFS($D$9:$D$14,$F$9:$F$14,$A3)","v":0},{"$f":"F3-G3","v":0},null,null,1,{"$f":"_xlfn.SORTBY(A3:I6,B3:B6,-1,H3:H6,-1,F3:F6,-1,I3:I6,-1)","v":"FRANÇA"},0,0,0,0,0,0,0,0]
["AUSTRÁLIA",{"$f":"C4*3+D4","v":0},{"$f":"COUNTIFS(H$9:H$14,A4)","v":0},{"$f":"COUNTIFS(L$9:L$14,$A4)+COUNTIFS(M$9:M$14,$A4)","v":0},{"$f":"COUNTIFS(J$9:J$14,$A4)","v":0},{"$f":"SUMIFS($E$9:$E$14,$F$9:$F$14,$A4)+SUMIFS($D$9:$D$14,$B$9:$B$14,$A4)","v":0},{"$f":"SUMIFS($E$9:$E$14,$B$9:$B$14,$A4)+SUMIFS($D$9:$D$14,$F$9:$F$14,$A4)","v":0},{"$f":"F4-G4","v":0},null,null,2,"AUSTRÁLIA",0,0,0,0,0,0,0,0]
["DINAMARCA",0,{"$f":"COUNTIFS(H$9:H$14,A5)","v":0},{"$f":"COUNTIFS(L$9:L$14,$A5)+COUNTIFS(M$9:M$14,$A5)","v":0},{"$f":"COUNTIFS(J$9:J$14,$A5)","v":0},{"$f":"SUMIFS($E$9:$E$14,$F$9:$F$14,$A5)+SUMIFS($D$9:$D$14,$B$9:$B$14,$A5)","v":0},{"$f":"SUMIFS($E$9:$E$14,$B$9:$B$14,$A5)+SUMIFS($D$9:$D$14,$F$9:$F$14,$A5)","v":0},0,null,null,3,"DINAMARCA",0,0,0,0,0,0,0,0]
["TUNÍSIA",0,{"$f":"COUNTIFS(H$9:H$14,A6)","v":0},{"$f":"COUNTIFS(L$9:L$14,$A6)+COUNTIFS(M$9:M$14,$A6)","v":0},{"$f":"COUNTIFS(J$9:J$14,$A6)","v":0},{"$f":"SUMIFS($E$9:$E$14,$F$9:$F$14,$A6)+SUMIFS($D$9:$D$14,$B$9:$B$14,$A6)","v":0},{"$f":"SUMIFS($E$9:$E$14,$B$9:$B$14,$A6)+SUMIFS($D$9:$D$14,$F$9:$F$14,$A6)","v":0},0,null,null,4,"TUNÍSIA",0,0,0,0,0,0,0,0]
[]
["HORÁRIO","TIME 1",null,"PLACAR",null,"TIME 2",null,"VENCEDOR",null,"PERDEDOR",null,"EMPATE","EMPATE",null,"ESTÁDIO",{"$nulls":3},"#"]
["2022-11-22T10:00:00","DINAMARCA",{"$nulls":3},"TUNÍSIA",null,{"$f":"IF($D9>$E9,$B9,IF($E9>$D9,$F9,\"-\"))","v":"-"},null,{"$f":"IF($D9<$E9,$B9,IF($E9<$D9,$F9,\"-\"))","v":"-"},null,{"$f":"IF(OR(ISBLANK($D9),ISBLANK($E9)),\"-\",IF($D9=$E9,B9,\"-\"))","v":"-"},{"$f":"IF(OR(ISBLANK($D9),ISBLANK($E9)),\"-\",IF($D9=$E9,F9,\"-\"))","v":"-"},null,{"$f":"ESTÁDIOS!$AO$1","v":"Estádio Education City"},{"$nulls":3},1]
["2022-11-22T16:00:00","FRANÇA",{"$nulls":3},"AUSTRÁLIA",null,"-",null,"-",null,"-","-",null,{"$f":"ESTÁDIOS!$Q$1","v":"Estádio Al Janoub"},{"$nulls":3},1]
["2022-11-26T07:00:00","TUNÍSIA",{"$nulls":3},"AUSTRÁLIA",null,"-",null,"-",null,"-","-",null,{"$f":"ESTÁDIOS!$Q$1","v":"Estádio Al Janoub"},{"$nulls":3},2]
["2022-11-26T13:00:00","FRANÇA",{"$nulls":3},"DINAMARCA",null,"-",null,"-",null,"-","-",null,{"$f":"ESTÁDIOS!$AW$1","v":"Estádio 974"},{"$nulls":3},2]
["2022-11-30T12:00:00","TUNÍSIA",{"$nulls":3},"FRANÇA",null,"-",null,"-",null,"-","-",null,{"$f":"ESTÁDIOS!$AO$1","v":"Estádio Education City"},{"$nulls":3},3]
["2022-11-30T12:00:00","AUSTRÁLIA",{"$nulls":3},"DINAMARCA",null,"-",null,"-",null,"-","-",null,{"$f":"ESTÁDIOS!$Q$1","v":"Estádio Al Janoub"},{"$nulls":3},3]
[]
[null,"PONTOS POR RODADA"]
[{"$f":"A$2","v":"PAÍS"},1,2,3]
[{"$f":"L3","v":"FRANÇA"},{"$f":"IF( ISNA( MATCH($A18,$H$9:$H$10,0)),  IF( ISNA( MATCH($A18,$L$9:$L$10,0)  ),\n  IF(ISNA( MATCH($A18,$M$9:$M$10,0)), 0, 1 ),  1), 3)","v":0},{"$f":"IF( ISNA( MATCH($A18,$H$11:$H$12,0)),  IF( ISNA( MATCH($A18,$L$11:$L$12,0)  ),\n  IF(ISNA( MATCH($A18,$M$11:$M$12,0)), 0, 1 ),  1), 3)","v":0},{"$f":"IF( ISNA( MATCH($A18,$H$13:$H$14,0)),  IF( ISNA( MATCH($A18,$L$13:$L$14,0)  ),\n  IF(ISNA( MATCH($A18,$M$13:$M$14,0)), 0, 1 ),  1), 3)","v":0}]
[{"$f":"L4","v":"AUSTRÁLIA"},{"$f":"IF( ISNA( MATCH(A19,H$9:H$10,0)),  IF( ISNA( MATCH(A19,L$9:L$10,0)  ),\n  IF(ISNA( MATCH(A19,M$9:M$10,0)), 0, 1 ),  1), 3)","v":0},{"$f":"IF( ISNA( MATCH($A19,$H$11:$H$12,0)),  IF( ISNA( MATCH($A19,$L$11:$L$12,0)  ),\n  IF(ISNA( MATCH($A19,$M$11:$M$12,0)), 0, 1 ),  1), 3)","v":0},{"$f":"IF( ISNA( MATCH($A19,$H$13:$H$14,0)),  IF( ISNA( MATCH($A19,$L$13:$L$14,0)  ),\n  IF(ISNA( MATCH($A19,$M$13:$M$14,0)), 0, 1 ),  1), 3)","v":0}]
[{"$f":"L5","v":"DINAMARCA"},{"$f":"IF( ISNA( MATCH(A20,H$9:H$10,0)),  IF( ISNA( MATCH(A20,L$9:L$10,0)  ),\n  IF(ISNA( MATCH(A20,M$9:M$10,0)), 0, 1 ),  1), 3)","v":0},{"$f":"IF( ISNA( MATCH($A20,$H$11:$H$12,0)),  IF( ISNA( MATCH($A20,$L$11:$L$12,0)  ),\n  IF(ISNA( MATCH($A20,$M$11:$M$12,0)), 0, 1 ),  1), 3)","v":0},0]
[{"$f":"L6","v":"TUNÍSIA"},{"$f":"IF( ISNA( MATCH(A21,H$9:H$10,0)),  IF( ISNA( MATCH(A21,L$9:L$10,0)  ),\n  IF(ISNA( MATCH(A21,M$9:M$10,0)), 0, 1 ),  1), 3)","v":0},{"$f":"IF( ISNA( MATCH($A21,$H$11:$H$12,0)),  IF( ISNA( MATCH($A21,$L$11:$L$12,0)  ),\n  IF(ISNA( MATCH($A21,$M$11:$M$12,0)), 0, 1 ),  1), 3)","v":0},0]
[]
[null,"PROGRESSO"]
[{"$f":"A$2","v":"PAÍS"},1,2,3]
[{"$f":"A18","v":"FRANÇA"},0,{"$f":"B25+C18","v":0},0]
["AUSTRÁLIA",0,0,0]
["DINAMARCA",0,0,0]
["TUNÍSIA",0,0,0]

{"sheet":"TABELA E","index":9,"n_rows":28,"n_cols":20,"rows_kept":28,"merged":[[0,0,0,8],[0,11,0,19],[7,1,7,2],[7,3,7,4],[7,5,7,6],[7,7,7,8],[7,9,7,10],[7,12,7,13],[7,14,7,17],[8,1,8,2],[8,5,8,6],[8,7,8,8],[8,9,8,10],[8,12,8,13],[8,14,8,17],[9,1,9,2],[9,5,9,6],[9,7,9,8],[9,9,9,10],[9,12,9,13],[9,14,9,17],[10,1,10,2],[10,5,10,6],[10,7,10,8],[10,9,10,10],[10,12,10,13],[10,14,10,17],[11,1,11,2],[11,5,11,6],[11,7,11,8],[11,9,11,10],[11,12,11,13],[11,14,11,17],[12,1,12,2],[12,5,12,6],[12,7,12,8],[12,9,12,10],[12,12,12,13],[12,14,12,17],[13,1,13,2],[13,5,13,6],[13,7,13,8],[13,9,13,10],[13,12,13,13],[13,14,13,17],[15,1,15,3],[22,1,22,3]]}
["GRUPO E - Definição",{"$nulls":10},"GRUPO E - Classificação"]
["PAÍS","PTS","V","E","D","G.P","G.C","SLD","MANUAL",null,null,"PAÍS","PTS","V","E","D","G.P","G.C","SLD","MANUAL"]
["ESPANHA",{"$f":"C3*3+D3","v":0},{"$f":"COUNTIFS(H$9:H$14,$A3)","v":0},{"$f":"COUNTIFS(L$9:L$14,$A3)+COUNTIFS(M$9:M$14,$A3)","v":0},{"$f":"COUNTIFS(J$9:J$14,$A3)","v":0},{"$f":"SUMIFS($E$9:$E$14,$F$9:$F$14,$A3)+SUMIFS($D$9:$D$14,$B$9:$B$14,$A3)","v":0},{"$f":"SUMIFS($E$9:$E$14,$B$9:$B$14,$A3)+SUMIFS($D$9:$D$14,$F$9:$F$14,$A3)","v":0},{"$f":"F3-G3","v":0},null,null,1,{"$f":"_xlfn.SORTBY(A3:I6,B3:B6,-1,H3:H6,-1,F3:F6,-1,I3:I6,-1)","v":"ESPANHA"},0,0,0,0,0,0,0,0]
["COSTA RICA",{"$f":"C4*3+D4","v":0},{"$f":"COUNTIFS(H$9:H$14,A4)","v":0},{"$f":"COUNTIFS(L$9:L$14,$A4)+COUNTIFS(M$9:M$14,$A4)","v":0},{"$f":"COUNTIFS(J$9:J$14,$A4)","v":0},{"$f":"SUMIFS($E$9:$E$14,$F$9:$F$14,$A4)+SUMIFS($D$9:$D$14,$B$9:$B$14,$A4)","v":0},{"$f":"SUMIFS($E$9:$E$14,$B$9:$B$14,$A4)+SUMIFS($D$9:$D$14,$F$9:$F$14,$A4)","v":0},{"$f":"F4-G4","v":0},null,null,2,"COSTA RICA",0,0,0,0,0,0,0,0]
["ALEMANHA",0,{"$f":"COUNTIFS(H$9:H$14,A5)","v":0},{"$f":"COUNTIFS(L$9:L$14,$A5)+COUNTIFS(M$9:M$14,$A5)","v":0},{"$f":"COUNTIFS(J$9:J$14,$A5)","v":0},{"$f":"SUMIFS($E$9:$E$14,$F$9:$F$14,$A5)+SUMIFS($D$9:$D$14,$B$9:$B$14,$A5)","v":0},{"$f":"SUMIFS($E$9:$E$14,$B$9:$B$14,$A5)+SUMIFS($D$9:$D$14,$F$9:$F$14,$A5)","v":0},0,null,null,3,"ALEMANHA",0,0,0,0,0,0,0,0]
["JAPÃO",0,{"$f":"COUNTIFS(H$9:H$14,A6)","v":0},{"$f":"COUNTIFS(L$9:L$14,$A6)+COUNTIFS(M$9:M$14,$A6)","v":0},{"$f":"COUNTIFS(J$9:J$14,$A6)","v":0},{"$f":"SUMIFS($E$9:$E$14,$F$9:$F$14,$A6)+SUMIFS($D$9:$D$14,$B$9:$B$14,$A6)","v":0},{"$f":"SUMIFS($E$9:$E$14,$B$9:$B$14,$A6)+SUMIFS($D$9:$D$14,$F$9:$F$14,$A6)","v":0},0,null,null,4,"JAPÃO",0,0,0,0,0,0,0,0]
[]
["HORÁRIO","TIME 1",null,"PLACAR",null,"TIME 2",null,"VENCEDOR",null,"PERDEDOR",null,"EMPATE","EMPATE",null,"ESTÁDIO",{"$nulls":3},"#"]
["2022-11-23T10:00:00","ALEMANHA",{"$nulls":3},"JAPÃO",null,{"$f":"IF($D9>$E9,$B9,IF($E9>$D9,$F9,\"-\"))","v":"-"},null,{"$f":"IF($D9<$E9,$B9,IF($E9<$D9,$F9,\"-\"))","v":"-"},null,{"$f":"IF(OR(ISBLANK($D9),ISBLANK($E9)),\"-\",IF($D9=$E9,B9,\"-\"))","v":"-"},{"$f":"IF(OR(ISBLANK($D9),ISBLANK($E9)),\"-\",IF($D9=$E9,F9,\"-\"))","v":"-"},null,{"$f":"ESTÁDIOS!$BE$1","v":"Estádio Khalifa"},{"$nulls":3},1]
["2022-11-23T13:00:00","ESPANHA",{"$nulls":3},"COSTA RICA",null,"-",null,"-",null,"-","-",null,{"$f":"ESTÁDIOS!$AG$1","v":"Estádio Al Thumama"},{"$nulls":3},1]
["2022-11-27T07:00:00","JAPÃO",{"$nulls":3},"COSTA RICA",null,"-",null,"-",null,"-","-",null,{"$f":"ESTÁDIOS!$Y$1","v":"Estádio Ahmad Bin Ali"},{"$nulls":3},2]
["2022-11-27T16:00:00","ESPANHA",{"$nulls":3},"ALEMANHA",null,"-",null,"-",null,"-","-",null,{"$f":"ESTÁDIOS!$I$1","v":"Estádio Al Bayt"},{"$nulls":3},2]
["2022-12-01T16:00:00","JAPÃO",{"$nulls":3},"ESPANHA",null,"-",null,"-",null,"-","-",null,{"$f":"ESTÁDIOS!$BE$1","v":"Estádio Khalifa"},{"$nulls":3},3]
["2022-12-01T16:00:00","COSTA RICA",{"$nulls":3},"ALEMANHA",null,"-",null,"-",null,"-","-",null,{"$f":"ESTÁDIOS!$I$1","v":"Estádio Al Bayt"},{"$nulls":3},3]
[]
[null,"PONTOS POR RODADA"]
[{"$f":"A$2","v":"PAÍS"},1,2,3]
[{"$f":"L3","v":"ESPANHA"},{"$f":"IF( ISNA( MATCH($A18,$H$9:$H$10,0)),  IF( ISNA( MATCH($A18,$L$9:$L$10,0)  ),\n  IF(ISNA( MATCH($A18,$M$9:$M$10,0)), 0, 1 ),  1), 3)","v":0},{"$f":"IF( ISNA( MATCH($A18,$H$11:$H$12,0)),  IF( ISNA( MATCH($A18,$L$11:$L$12,0)  ),\n  IF(ISNA( MATCH($A18,$M$11:$M$12,0)), 0, 1 ),  1), 3)","v":0},{"$f":"IF( ISNA( MATCH($A18,$H$13:$H$14,0)),  IF( ISNA( MATCH($A18,$L$13:$L$14,0)  ),\n  IF(ISNA( MATCH($A18,$M$13:$M$14,0)), 0, 1 ),  1), 3)","v":0}]
[{"$f":"L4","v":"COSTA RICA"},{"$f":"IF( ISNA( MATCH(A19,H$9:H$10,0)),  IF( ISNA( MATCH(A19,L$9:L$10,0)  ),\n  IF(ISNA( MATCH(A19,M$9:M$10,0)), 0, 1 ),  1), 3)","v":0},{"$f":"IF( ISNA( MATCH($A19,$H$11:$H$12,0)),  IF( ISNA( MATCH($A19,$L$11:$L$12,0)  ),\n  IF(ISNA( MATCH($A19,$M$11:$M$12,0)), 0, 1 ),  1), 3)","v":0},{"$f":"IF( ISNA( MATCH($A19,$H$13:$H$14,0)),  IF( ISNA( MATCH($A19,$L$13:$L$14,0)  ),\n  IF(ISNA( MATCH($A19,$M$13:$M$14,0)), 0, 1 ),  1), 3)","v":0}]
[{"$f":"L5","v":"ALEMANHA"},{"$f":"IF( ISNA( MATCH(A20,H$9:H$10,0)),  IF( ISNA( MATCH(A20,L$9:L$10,0)  ),\n  IF(ISNA( MATCH(A20,M$9:M$10,0)), 0, 1 ),  1), 3)","v":0},{"$f":"IF( ISNA( MATCH($A20,$H$11:$H$12,0)),  IF( ISNA( MATCH($A20,$L$11:$L$12,0)  ),\n  IF(ISNA( MATCH($A20,$M$11:$M$12,0)), 0, 1 ),  1), 3)","v":0},0]
[{"$f":"L6","v":"JAPÃO"},{"$f":"IF( ISNA( MATCH(A21,H$9:H$10,0)),  IF( ISNA( MATCH(A21,L$9:L$10,0)  ),\n  IF(ISNA( MATCH(A21,M$9:M$10,0)), 0, 1 ),  1), 3)","v":0},{"$f":"IF( ISNA( MATCH($A21,$H$11:$H$12,0)),  IF( ISNA( MATCH($A21,$L$11:$L$12,0)  ),\n  IF(ISNA( MATCH($A21,$M$11:$M$12,0)), 0, 1 ),  1), 3)","v":0},0]
[]
[null,"PROGRESSO"]
[{"$f":"A$2","v":"PAÍS"},1,2,3]
[{"$f":"A18","v":"ESPANHA"},0,{"$f":"B25+C18","v":0},0]
["COSTA RICA",0,0,0]
["ALEMANHA",0,0,0]
["JAPÃO",0,0,0]

{"sheet":"TABELA F","index":10,"n_rows":28,"n_cols":20,"rows_kept":28,"merged":[[0,0,0,8],[0,11,0,19],[7,1,7,2],[7,3,7,4],[7,5,7,6],[7,7,7,8],[7,9,7,10],[7,12,7,13],[7,14,7,17],[8,1,8,2],[8,5,8,6],[8,7,8,8],[8,9,8,10],[8,12,8,13],[8,14,8,17],[9,1,9,2],[9,5,9,6],[9,7,9,8],[9,9,9,10],[9,12,9,13],[9,14,9,17],[10,1,10,2],[10,5,10,6],[10,7,10,8],[10,9,10,10],[10,12,10,13],[10,14,10,17],[11,1,11,2],[11,5,11,6],[11,7,11,8],[11,9,11,10],[11,12,11,13],[11,14,11,17],[12,1,12,2],[12,5,12,6],[12,7,12,8],[12,9,12,10],[12,12,12,13],[12,14,12,17],[13,1,13,2],[13,5,13,6],[13,7,13,8],[13,9,13,10],[13,12,13,13],[13,14,13,17],[15,1,15,3],[22,1,22,3]]}
["GRUPO F - Definição",{"$nulls":10},"GRUPO F - Classificação"]
["PAÍS","PTS","V","E","D","G.P","G.C","SLD","MANUAL",null,null,"PAÍS","PTS","V","E","D","G.P","G.C","SLD","MANUAL"]
["BÉLGICA",{"$f":"C3*3+D3","v":0},{"$f":"COUNTIFS(H$9:H$14,$A3)","v":0},{"$f":"COUNTIFS(L$9:L$14,$A3)+COUNTIFS(M$9:M$14,$A3)","v":0},{"$f":"COUNTIFS(J$9:J$14,$A3)","v":0},{"$f":"SUMIFS($E$9:$E$14,$F$9:$F$14,$A3)+SUMIFS($D$9:$D$14,$B$9:$B$14,$A3)","v":0},{"$f":"SUMIFS($E$9:$E$14,$B$9:$B$14,$A3)+SUMIFS($D$9:$D$14,$F$9:$F$14,$A3)","v":0},{"$f":"F3-G3","v":0},null,null,1,{"$f":"_xlfn.SORTBY(A3:I6,B3:B6,-1,H3:H6,-1,F3:F6,-1,I3:I6,-1)","v":"BÉLGICA"},0,0,0,0,0,0,0,0]
["CANADÁ",{"$f":"C4*3+D4","v":0},{"$f":"COUNTIFS(H$9:H$14,A4)","v":0},{"$f":"COUNTIFS(L$9:L$14,$A4)+COUNTIFS(M$9:M$14,$A4)","v":0},{"$f":"COUNTIFS(J$9:J$14,$A4)","v":0},{"$f":"SUMIFS($E$9:$E$14,$F$9:$F$14,$A4)+SUMIFS($D$9:$D$14,$B$9:$B$14,$A4)","v":0},{"$f":"SUMIFS($E$9:$E$14,$B$9:$B$14,$A4)+SUMIFS($D$9:$D$14,$F$9:$F$14,$A4)","v":0},{"$f":"F4-G4","v":0},null,null,2,"CANADÁ",0,0,0,0,0,0,0,0]
["MARROCOS",0,{"$f":"COUNTIFS(H$9:H$14,A5)","v":0},{"$f":"COUNTIFS(L$9:L$14,$A5)+COUNTIFS(M$9:M$14,$A5)","v":0},{"$f":"COUNTIFS(J$9:J$14,$A5)","v":0},{"$f":"SUMIFS($E$9:$E$14,$F$9:$F$14,$A5)+SUMIFS($D$9:$D$14,$B$9:$B$14,$A5)","v":0},{"$f":"SUMIFS($E$9:$E$14,$B$9:$B$14,$A5)+SUMIFS($D$9:$D$14,$F$9:$F$14,$A5)","v":0},0,null,null,3,"MARROCOS",0,0,0,0,0,0,0,0]
["CROÁCIA",0,{"$f":"COUNTIFS(H$9:H$14,A6)","v":0},{"$f":"COUNTIFS(L$9:L$14,$A6)+COUNTIFS(M$9:M$14,$A6)","v":0},{"$f":"COUNTIFS(J$9:J$14,$A6)","v":0},{"$f":"SUMIFS($E$9:$E$14,$F$9:$F$14,$A6)+SUMIFS($D$9:$D$14,$B$9:$B$14,$A6)","v":0},{"$f":"SUMIFS($E$9:$E$14,$B$9:$B$14,$A6)+SUMIFS($D$9:$D$14,$F$9:$F$14,$A6)","v":0},0,null,null,4,"CROÁCIA",0,0,0,0,0,0,0,0]
[]
["HORÁRIO","TIME 1",null,"PLACAR",null,"TIME 2",null,"VENCEDOR",null,"PERDEDOR",null,"EMPATE","EMPATE",null,"ESTÁDIO",{"$nulls":3},"#"]
["2022-11-23T07:00:00","MARROCOS",{"$nulls":3},"CROÁCIA",null,{"$f":"IF($D9>$E9,$B9,IF($E9>$D9,$F9,\"-\"))","v":"-"},null,{"$f":"IF($D9<$E9,$B9,IF($E9<$D9,$F9,\"-\"))","v":"-"},null,{"$f":"IF(OR(ISBLANK($D9),ISBLANK($E9)),\"-\",IF($D9=$E9,B9,\"-\"))","v":"-"},{"$f":"IF(OR(ISBLANK($D9),ISBLANK($E9)),\"-\",IF($D9=$E9,F9,\"-\"))","v":"-"},null,{"$f":"ESTÁDIOS!$I$1","v":"Estádio Al Bayt"},{"$nulls":3},1]
["2022-11-23T16:00:00","BÉLGICA",{"$nulls":3},"CANADÁ",null,"-",null,"-",null,"-","-",null,{"$f":"ESTÁDIOS!$Y$1","v":"Estádio Ahmad Bin Ali"},{"$nulls":3},1]
["2022-11-27T10:00:00","BÉLGICA",{"$nulls":3},"MARROCOS",null,"-",null,"-",null,"-","-",null,{"$f":"ESTÁDIOS!$AG$1","v":"Estádio Al Thumama"},{"$nulls":3},2]
["2022-11-27T13:00:00","CROÁCIA",{"$nulls":3},"CANADÁ",null,"-",null,"-",null,"-","-",null,{"$f":"ESTÁDIOS!$BE$1","v":"Estádio Khalifa"},{"$nulls":3},2]
["2022-12-01T12:00:00","CROÁCIA",{"$nulls":3},"BÉLGICA",null,"-",null,"-",null,"-","-",null,{"$f":"ESTÁDIOS!$Y$1","v":"Estádio Ahmad Bin Ali"},{"$nulls":3},3]
["2022-12-01T12:00:00","CANADÁ",{"$nulls":3},"MARROCOS",null,"-",null,"-",null,"-","-",null,{"$f":"ESTÁDIOS!$AG$1","v":"Estádio Al Thumama"},{"$nulls":3},3]
[]
[null,"PONTOS POR RODADA"]
[{"$f":"A$2","v":"PAÍS"},1,2,3]
[{"$f":"L3","v":"BÉLGICA"},{"$f":"IF( ISNA( MATCH($A18,$H$9:$H$10,0)),  IF( ISNA( MATCH($A18,$L$9:$L$10,0)  ),\n  IF(ISNA( MATCH($A18,$M$9:$M$10,0)), 0, 1 ),  1), 3)","v":0},{"$f":"IF( ISNA( MATCH($A18,$H$11:$H$12,0)),  IF( ISNA( MATCH($A18,$L$11:$L$12,0)  ),\n  IF(ISNA( MATCH($A18,$M$11:$M$12,0)), 0, 1 ),  1), 3)","v":0},{"$f":"IF( ISNA( MATCH($A18,$H$13:$H$14,0)),  IF( ISNA( MATCH($A18,$L$13:$L$14,0)  ),\n  IF(ISNA( MATCH($A18,$M$13:$M$14,0)), 0, 1 ),  1), 3)","v":0}]
[{"$f":"L4","v":"CANADÁ"},{"$f":"IF( ISNA( MATCH(A19,H$9:H$10,0)),  IF( ISNA( MATCH(A19,L$9:L$10,0)  ),\n  IF(ISNA( MATCH(A19,M$9:M$10,0)), 0, 1 ),  1), 3)","v":0},{"$f":"IF( ISNA( MATCH($A19,$H$11:$H$12,0)),  IF( ISNA( MATCH($A19,$L$11:$L$12,0)  ),\n  IF(ISNA( MATCH($A19,$M$11:$M$12,0)), 0, 1 ),  1), 3)","v":0},{"$f":"IF( ISNA( MATCH($A19,$H$13:$H$14,0)),  IF( ISNA( MATCH($A19,$L$13:$L$14,0)  ),\n  IF(ISNA( MATCH($A19,$M$13:$M$14,0)), 0, 1 ),  1), 3)","v":0}]
[{"$f":"L5","v":"MARROCOS"},{"$f":"IF( ISNA( MATCH(A20,H$9:H$10,0)),  IF( ISNA( MATCH(A20,L$9:L$10,0)  ),\n  IF(ISNA( MATCH(A20,M$9:M$10,0)), 0, 1 ),  1), 3)","v":0},{"$f":"IF( ISNA( MATCH($A20,$H$11:$H$12,0)),  IF( ISNA( MATCH($A20,$L$11:$L$12,0)  ),\n  IF(ISNA( MATCH($A20,$M$11:$M$12,0)), 0, 1 ),  1), 3)","v":0},0]
[{"$f":"L6","v":"CROÁCIA"},{"$f":"IF( ISNA( MATCH(A21,H$9:H$10,0)),  IF( ISNA( MATCH(A21,L$9:L$10,0)  ),\n  IF(ISNA( MATCH(A21,M$9:M$10,0)), 0, 1 ),  1), 3)","v":0},{"$f":"IF( ISNA( MATCH($A21,$H$11:$H$12,0)),  IF( ISNA( MATCH($A21,$L$11:$L$12,0)  ),\n  IF(ISNA( MATCH($A21,$M$11:$M$12,0)), 0, 1 ),  1), 3)","v":0},0]
[]
[null,"PROGRESSO"]
[{"$f":"A$2","v":"PAÍS"},1,2,3]
[{"$f":"A18","v":"BÉLGICA"},0,{"$f":"B25+C18","v":0},0]
["CANADÁ",0,0,0]
["MARROCOS",0,0,0]
["CROÁCIA",0,0,0]

{"sheet":"TABELA G","index":11,"n_rows":28,"n_cols":20,"rows_kept":28,"merged":[[0,0,0,8],[0,11,0,19],[7,1,7,2],[7,3,7,4],[7,5,7,6],[7,7,7,8],[7,9,7,10],[7,12,7,13],[7,14,7,17],[8,1,8,2],[8,5,8,6],[8,7,8,8],[8,9,8,10],[8,12,8,13],[8,14,8,17],[9,1,9,2],[9,5,9,6],[9,7,9,8],[9,9,9,10],[9,12,9,13],[9,14,9,17],[10,1,10,2],[10,5,10,6],[10,7,10,8],[10,9,10,10],[10,12,10,13],[10,14,10,17],[11,1,11,2],[11,5,11,6],[11,7,11,8],[11,9,11,10],[11,12,11,13],[11,14,11,17],[12,1,12,2],[12,5,12,6],[12,7,12,8],[12,9,12,10],[12,12,12,13],[12,14,12,17],[13,1,13,2],[13,5,13,6],[13,7,13,8],[13,9,13,10],[13,12,13,13],[13,14,13,17],[15,1,15,3],[22,1,22,3]]}
["GRUPO G - Definição",{"$nulls":10},"GRUPO G - Classificação"]
["PAÍS","PTS","V","E","D","G.P","G.C","SLD","MANUAL",null,null,"PAÍS","PTS","V","E","D","G.P","G.C","SLD","MANUAL"]
["BRASIL",{"$f":"C3*3+D3","v":0},{"$f":"COUNTIFS(H$9:H$14,$A3)","v":0},{"$f":"COUNTIFS(L$9:L$14,$A3)+COUNTIFS(M$9:M$14,$A3)","v":0},{"$f":"COUNTIFS(J$9:J$14,$A3)","v":0},{"$f":"SUMIFS($E$9:$E$14,$F$9:$F$14,$A3)+SUMIFS($D$9:$D$14,$B$9:$B$14,$A3)","v":0},{"$f":"SUMIFS($E$9:$E$14,$B$9:$B$14,$A3)+SUMIFS($D$9:$D$14,$F$9:$F$14,$A3)","v":0},{"$f":"F3-G3","v":0},null,null,1,{"$f":"_xlfn.SORTBY(A3:I6,B3:B6,-1,H3:H6,-1,F3:F6,-1,I3:I6,-1)","v":"BRASIL"},0,0,0,0,0,0,0,0]
["SÉRVIA",{"$f":"C4*3+D4","v":0},{"$f":"COUNTIFS(H$9:H$14,A4)","v":0},{"$f":"COUNTIFS(L$9:L$14,$A4)+COUNTIFS(M$9:M$14,$A4)","v":0},{"$f":"COUNTIFS(J$9:J$14,$A4)","v":0},{"$f":"SUMIFS($E$9:$E$14,$F$9:$F$14,$A4)+SUMIFS($D$9:$D$14,$B$9:$B$14,$A4)","v":0},{"$f":"SUMIFS($E$9:$E$14,$B$9:$B$14,$A4)+SUMIFS($D$9:$D$14,$F$9:$F$14,$A4)","v":0},{"$f":"F4-G4","v":0},null,null,2,"SÉRVIA",0,0,0,0,0,0,0,0]
["SUÍÇA",0,{"$f":"COUNTIFS(H$9:H$14,A5)","v":0},{"$f":"COUNTIFS(L$9:L$14,$A5)+COUNTIFS(M$9:M$14,$A5)","v":0},{"$f":"COUNTIFS(J$9:J$14,$A5)","v":0},{"$f":"SUMIFS($E$9:$E$14,$F$9:$F$14,$A5)+SUMIFS($D$9:$D$14,$B$9:$B$14,$A5)","v":0},{"$f":"SUMIFS($E$9:$E$14,$B$9:$B$14,$A5)+SUMIFS($D$9:$D$14,$F$9:$F$14,$A5)","v":0},0,null,null,3,"SUÍÇA",0,0,0,0,0,0,0,0]
["CAMARÕES",0,{"$f":"COUNTIFS(H$9:H$14,A6)","v":0},{"$f":"COUNTIFS(L$9:L$14,$A6)+COUNTIFS(M$9:M$14,$A6)","v":0},{"$f":"COUNTIFS(J$9:J$14,$A6)","v":0},{"$f":"SUMIFS($E$9:$E$14,$F$9:$F$14,$A6)+SUMIFS($D$9:$D$14,$B$9:$B$14,$A6)","v":0},{"$f":"SUMIFS($E$9:$E$14,$B$9:$B$14,$A6)+SUMIFS($D$9:$D$14,$F$9:$F$14,$A6)","v":0},0,null,null,4,"CAMARÕES",0,0,0,0,0,0,0,0]
[]
["HORÁRIO","TIME 1",null,"PLACAR",null,"TIME 2",null,"VENCEDOR",null,"PERDEDOR",null,"EMPATE","EMPATE",null,"ESTÁDIO",{"$nulls":3},"#"]
["2022-11-24T07:00:00","SUÍÇA",{"$nulls":3},"CAMARÕES",null,{"$f":"IF($D9>$E9,$B9,IF($E9>$D9,$F9,\"-\"))","v":"-"},null,{"$f":"IF($D9<$E9,$B9,IF($E9<$D9,$F9,\"-\"))","v":"-"},null,{"$f":"IF(OR(ISBLANK($D9),ISBLANK($E9)),\"-\",IF($D9=$E9,B9,\"-\"))","v":"-"},{"$f":"IF(OR(ISBLANK($D9),ISBLANK($E9)),\"-\",IF($D9=$E9,F9,\"-\"))","v":"-"},null,{"$f":"ESTÁDIOS!$Q$1","v":"Estádio Al Janoub"},{"$nulls":3},1]
["2022-11-24T16:00:00","BRASIL",{"$nulls":3},"SÉRVIA",null,"-",null,"-",null,"-","-",null,{"$f":"ESTÁDIOS!$A$1","v":"Estádio Lusail"},{"$nulls":3},1]
["2022-11-28T07:00:00","CAMARÕES",{"$nulls":3},"SÉRVIA",null,"-",null,"-",null,"-","-",null,{"$f":"ESTÁDIOS!$Q$1","v":"Estádio Al Janoub"},{"$nulls":3},2]
["2022-11-28T13:00:00","BRASIL",{"$nulls":3},"SUÍÇA",null,"-",null,"-",null,"-","-",null,{"$f":"ESTÁDIOS!$AW$1","v":"Estádio 974"},{"$nulls":3},2]
["2022-12-02T16:00:00","CAMARÕES",{"$nulls":3},"BRASIL",null,"-",null,"-",null,"-","-",null,{"$f":"ESTÁDIOS!$A$1","v":"Estádio Lusail"},{"$nulls":3},3]
["2022-12-02T16:00:00","SÉRVIA",{"$nulls":3},"SUÍÇA",null,"-",null,"-",null,"-","-",null,{"$f":"ESTÁDIOS!$AW$1","v":"Estádio 974"},{"$nulls":3},3]
[]
[null,"PONTOS POR RODADA"]
[{"$f":"A$2","v":"PAÍS"},1,2,3]
[{"$f":"L3","v":"BRASIL"},{"$f":"IF( ISNA( MATCH($A18,$H$9:$H$10,0)),  IF( ISNA( MATCH($A18,$L$9:$L$10,0)  ),\n  IF(ISNA( MATCH($A18,$M$9:$M$10,0)), 0, 1 ),  1), 3)","v":0},{"$f":"IF( ISNA( MATCH($A18,$H$11:$H$12,0)),  IF( ISNA( MATCH($A18,$L$11:$L$12,0)  ),\n  IF(ISNA( MATCH($A18,$M$11:$M$12,0)), 0, 1 ),  1), 3)","v":0},{"$f":"IF( ISNA( MATCH($A18,$H$13:$H$14,0)),  IF( ISNA( MATCH($A18,$L$13:$L$14,0)  ),\n  IF(ISNA( MATCH($A18,$M$13:$M$14,0)), 0, 1 ),  1), 3)","v":0}]
[{"$f":"L4","v":"SÉRVIA"},{"$f":"IF( ISNA( MATCH(A19,H$9:H$10,0)),  IF( ISNA( MATCH(A19,L$9:L$10,0)  ),\n  IF(ISNA( MATCH(A19,M$9:M$10,0)), 0, 1 ),  1), 3)","v":0},{"$f":"IF( ISNA( MATCH($A19,$H$11:$H$12,0)),  IF( ISNA( MATCH($A19,$L$11:$L$12,0)  ),\n  IF(ISNA( MATCH($A19,$M$11:$M$12,0)), 0, 1 ),  1), 3)","v":0},{"$f":"IF( ISNA( MATCH($A19,$H$13:$H$14,0)),  IF( ISNA( MATCH($A19,$L$13:$L$14,0)  ),\n  IF(ISNA( MATCH($A19,$M$13:$M$14,0)), 0, 1 ),  1), 3)","v":0}]
[{"$f":"L5","v":"SUÍÇA"},{"$f":"IF( ISNA( MATCH(A20,H$9:H$10,0)),  IF( ISNA( MATCH(A20,L$9:L$10,0)  ),\n  IF(ISNA( MATCH(A20,M$9:M$10,0)), 0, 1 ),  1), 3)","v":0},{"$f":"IF( ISNA( MATCH($A20,$H$11:$H$12,0)),  IF( ISNA( MATCH($A20,$L$11:$L$12,0)  ),\n  IF(ISNA( MATCH($A20,$M$11:$M$12,0)), 0, 1 ),  1), 3)","v":0},0]
[{"$f":"L6","v":"CAMARÕES"},{"$f":"IF( ISNA( MATCH(A21,H$9:H$10,0)),  IF( ISNA( MATCH(A21,L$9:L$10,0)  ),\n  IF(ISNA( MATCH(A21,M$9:M$10,0)), 0, 1 ),  1), 3)","v":0},{"$f":"IF( ISNA( MATCH($A21,$H$11:$H$12,0)),  IF( ISNA( MATCH($A21,$L$11:$L$12,0)  ),\n  IF(ISNA( MATCH($A21,$M$11:$M$12,0)), 0, 1 ),  1), 3)","v":0},0]
[]
[null,"PROGRESSO"]
[{"$f":"A$2","v":"PAÍS"},1,2,3]
[{"$f":"A18","v":"BRASIL"},0,{"$f":"B25+C18","v":0},0]
["SÉRVIA",0,0,0]
["SUÍÇA",0,0,0]
["CAMARÕES",0,0,0]

{"sheet":"TABELA H","index":12,"n_rows":28,"n_cols":20,"rows_kept":28,"merged":[[0,0,0,8],[0,11,0,19],[7,1,7,2],[7,3,7,4],[7,5,7,6],[7,7,7,8],[7,9,7,10],[7,12,7,13],[7,14,7,17],[8,1,8,2],[8,5,8,6],[8,7,8,8],[8,9,8,10],[8,12,8,13],[8,14,8,17],[9,1,9,2],[9,5,9,6],[9,7,9,8],[9,9,9,10],[9,12,9,13],[9,14,9,17],[10,1,10,2],[10,5,10,6],[10,7,10,8],[10,9,10,10],[10,12,10,13],[10,14,10,17],[11,1,11,2],[11,5,11,6],[11,7,11,8],[11,9,11,10],[11,12,11,13],[11,14,11,17],[12,1,12,2],[12,5,12,6],[12,7,12,8],[12,9,12,10],[12,12,12,13],[12,14,12,17],[13,1,13,2],[13,5,13,6],[13,7,13,8],[13,9,13,10],[13,12,13,13],[13,14,13,17],[15,1,15,3],[22,1,22,3]]}
["GRUPO H - Definição",{"$nulls":10},"GRUPO H - Classificação"]
["PAÍS","PTS","V","E","D","G.P","G.C","SLD","MANUAL",null,null,"PAÍS","PTS","V","E","D","G.P","G.C","SLD","MANUAL"]
["PORTUGAL",{"$f":"C3*3+D3","v":0},{"$f":"COUNTIFS(H$9:H$14,$A3)","v":0},{"$f":"COUNTIFS(L$9:L$14,$A3)+COUNTIFS(M$9:M$14,$A3)","v":0},{"$f":"COUNTIFS(J$9:J$14,$A3)","v":0},{"$f":"SUMIFS($E$9:$E$14,$F$9:$F$14,$A3)+SUMIFS($D$9:$D$14,$B$9:$B$14,$A3)","v":0},{"$f":"SUMIFS($E$9:$E$14,$B$9:$B$14,$A3)+SUMIFS($D$9:$D$14,$F$9:$F$14,$A3)","v":0},{"$f":"F3-G3","v":0},null,null,1,{"$f":"_xlfn.SORTBY(A3:I6,B3:B6,-1,H3:H6,-1,F3:F6,-1,I3:I6,-1)","v":"PORTUGAL"},0,0,0,0,0,0,0,0]
["GANA",{"$f":"C4*3+D4","v":0},{"$f":"COUNTIFS(H$9:H$14,A4)","v":0},{"$f":"COUNTIFS(L$9:L$14,$A4)+COUNTIFS(M$9:M$14,$A4)","v":0},{"$f":"COUNTIFS(J$9:J$14,$A4)","v":0},{"$f":"SUMIFS($E$9:$E$14,$F$9:$F$14,$A4)+SUMIFS($D$9:$D$14,$B$9:$B$14,$A4)","v":0},{"$f":"SUMIFS($E$9:$E$14,$B$9:$B$14,$A4)+SUMIFS($D$9:$D$14,$F$9:$F$14,$A4)","v":0},{"$f":"F4-G4","v":0},null,null,2,"GANA",0,0,0,0,0,0,0,0]
["URUGUAI",0,{"$f":"COUNTIFS(H$9:H$14,A5)","v":0},{"$f":"COUNTIFS(L$9:L$14,$A5)+COUNTIFS(M$9:M$14,$A5)","v":0},{"$f":"COUNTIFS(J$9:J$14,$A5)","v":0},{"$f":"SUMIFS($E$9:$E$14,$F$9:$F$14,$A5)+SUMIFS($D$9:$D$14,$B$9:$B$14,$A5)","v":0},{"$f":"SUMIFS($E$9:$E$14,$B$9:$B$14,$A5)+SUMIFS($D$9:$D$14,$F$9:$F$14,$A5)","v":0},0,null,null,3,"URUGUAI",0,0,0,0,0,0,0,0]
["COREIA DO SUL",0,{"$f":"COUNTIFS(H$9:H$14,A6)","v":0},{"$f":"COUNTIFS(L$9:L$14,$A6)+COUNTIFS(M$9:M$14,$A6)","v":0},{"$f":"COUNTIFS(J$9:J$14,$A6)","v":0},{"$f":"SUMIFS($E$9:$E$14,$F$9:$F$14,$A6)+SUMIFS($D$9:$D$14,$B$9:$B$14,$A6)","v":0},{"$f":"SUMIFS($E$9:$E$14,$B$9:$B$14,$A6)+SUMIFS($D$9:$D$14,$F$9:$F$14,$A6)","v":0},0,null,null,4,"COREIA DO SUL",0,0,0,0,0,0,0,0]
[]
["HORÁRIO","TIME 1",null,"PLACAR",null,"TIME 2",null,"VENCEDOR",null,"PERDEDOR",null,"EMPATE","EMPATE",null,"ESTÁDIO",{"$nulls":3},"#"]
["2022-11-24T10:00:00","URUGUAI",{"$nulls":3},"COREIA DO SUL",null,{"$f":"IF($D9>$E9,$B9,IF($E9>$D9,$F9,\"-\"))","v":"-"},null,{"$f":"IF($D9<$E9,$B9,IF($E9<$D9,$F9,\"-\"))","v":"-"},null,{"$f":"IF(OR(ISBLANK($D9),ISBLANK($E9)),\"-\",IF($D9=$E9,B9,\"-\"))","v":"-"},{"$f":"IF(OR(ISBLANK($D9),ISBLANK($E9)),\"-\",IF($D9=$E9,F9,\"-\"))","v":"-"},null,{"$f":"ESTÁDIOS!$AO$1","v":"Estádio Education City"},{"$nulls":3},1]
["2022-11-24T13:00:00","PORTUGAL",{"$nulls":3},"GANA",null,"-",null,"-",null,"-","-",null,{"$f":"ESTÁDIOS!$AW$1","v":"Estádio 974"},{"$nulls":3},1]
["2022-11-28T10:00:00","COREIA DO SUL",{"$nulls":3},"GANA",null,"-",null,"-",null,"-","-",null,{"$f":"ESTÁDIOS!$AO$1","v":"Estádio Education City"},{"$nulls":3},2]
["2022-11-28T16:00:00","PORTUGAL",{"$nulls":3},"URUGUAI",null,"-",null,"-",null,"-","-",null,{"$f":"ESTÁDIOS!$A$1","v":"Estádio Lusail"},{"$nulls":3},2]
["2022-12-02T12:00:00","COREIA DO SUL",{"$nulls":3},"PORTUGAL",null,"-",null,"-",null,"-","-",null,{"$f":"ESTÁDIOS!$AO$1","v":"Estádio Education City"},{"$nulls":3},3]
["2022-12-02T12:00:00","GANA",{"$nulls":3},"URUGUAI",null,"-",null,"-",null,"-","-",null,{"$f":"ESTÁDIOS!$Q$1","v":"Estádio Al Janoub"},{"$nulls":3},3]
[]
[null,"PONTOS POR RODADA"]
[{"$f":"A$2","v":"PAÍS"},1,2,3]
[{"$f":"L3","v":"PORTUGAL"},{"$f":"IF( ISNA( MATCH($A18,$H$9:$H$10,0)),  IF( ISNA( MATCH($A18,$L$9:$L$10,0)  ),\n  IF(ISNA( MATCH($A18,$M$9:$M$10,0)), 0, 1 ),  1), 3)","v":0},{"$f":"IF( ISNA( MATCH($A18,$H$11:$H$12,0)),  IF( ISNA( MATCH($A18,$L$11:$L$12,0)  ),\n  IF(ISNA( MATCH($A18,$M$11:$M$12,0)), 0, 1 ),  1), 3)","v":0},{"$f":"IF( ISNA( MATCH($A18,$H$13:$H$14,0)),  IF( ISNA( MATCH($A18,$L$13:$L$14,0)  ),\n  IF(ISNA( MATCH($A18,$M$13:$M$14,0)), 0, 1 ),  1), 3)","v":0}]
[{"$f":"L4","v":"GANA"},{"$f":"IF( ISNA( MATCH(A19,H$9:H$10,0)),  IF( ISNA( MATCH(A19,L$9:L$10,0)  ),\n  IF(ISNA( MATCH(A19,M$9:M$10,0)), 0, 1 ),  1), 3)","v":0},{"$f":"IF( ISNA( MATCH($A19,$H$11:$H$12,0)),  IF( ISNA( MATCH($A19,$L$11:$L$12,0)  ),\n  IF(ISNA( MATCH($A19,$M$11:$M$12,0)), 0, 1 ),  1), 3)","v":0},{"$f":"IF( ISNA( MATCH($A19,$H$13:$H$14,0)),  IF( ISNA( MATCH($A19,$L$13:$L$14,0)  ),\n  IF(ISNA( MATCH($A19,$M$13:$M$14,0)), 0, 1 ),  1), 3)","v":0}]
[{"$f":"L5","v":"URUGUAI"},{"$f":"IF( ISNA( MATCH(A20,H$9:H$10,0)),  IF( ISNA( MATCH(A20,L$9:L$10,0)  ),\n  IF(ISNA( MATCH(A20,M$9:M$10,0)), 0, 1 ),  1), 3)","v":0},{"$f":"IF( ISNA( MATCH($A20,$H$11:$H$12,0)),  IF( ISNA( MATCH($A20,$L$11:$L$12,0)  ),\n  IF(ISNA( MATCH($A20,$M$11:$M$12,0)), 0, 1 ),  1), 3)","v":0},0]
[{"$f":"L6","v":"COREIA DO SUL"},{"$f":"IF( ISNA( MATCH(A21,H$9:H$10,0)),  IF( ISNA( MATCH(A21,L$9:L$10,0)  ),\n  IF(ISNA( MATCH(A21,M$9:M$10,0)), 0, 1 ),  1), 3)","v":0},{"$f":"IF( ISNA( MATCH($A21,$H$11:$H$12,0)),  IF( ISNA( MATCH($A21,$L$11:$L$12,0)  ),\n  IF(ISNA( MATCH($A21,$M$11:$M$12,0)), 0, 1 ),  1), 3)","v":0},0]
[]
[null,"PROGRESSO"]
[{"$f":"A$2","v":"PAÍS"},1,2,3]
[{"$f":"A18","v":"PORTUGAL"},0,{"$f":"B25+C18","v":0},0]
["GANA",0,0,0]
["URUGUAI",0,0,0]
["COREIA DO SUL",0,0,0]

{"sheet":"GRÁFICOS","index":13,"n_rows":34,"n_cols":4,"rows_kept":34}
["Rótulos de Linha","Soma de PTS","Soma de SLD","Soma de G.P"]
["ALEMANHA",1,0,1]
["ARÁBIA SAUDITA",0,0,0]
["ARGENTINA",1,0,1]
["AUSTRÁLIA",0,0,0]
["BÉLGICA",1,0,1]
["BRASIL",1,0,1]
["CAMARÕES",0,0,0]
["CANADÁ",0,0,0]
["CATAR",0,0,0]
["COREIA DO SUL",0,0,0]
["COSTA RICA",0,0,0]
["CROÁCIA",1,0,1]
["DINAMARCA",1,0,1]
["EQUADOR",1,0,1]
["ESPANHA",1,0,1]
["ESTADOS UNIDOS",1,0,1]
["FRANÇA",1,0,1]
["GANA",0,0,0]
["HOLANDA",1,0,1]
["INGLATERRA",1,0,1]
["IRÃ",0,0,0]
["JAPÃO",0,0,0]
["MARROCOS",0,0,0]
["MÉXICO",1,0,1]
["PAÍS DE GALES",0,0,0]
["POLÔNIA",0,0,0]
["PORTUGAL",1,0,1]
["SENEGAL",0,0,0]
["SÉRVIA",0,0,0]
["SUÍÇA",1,0,1]
["TUNÍSIA",0,0,0]
["URUGUAI",1,0,1]
["Total Geral",16,0,16]

{"sheet":"PARÂMETROS","index":14,"n_rows":42,"n_cols":1,"rows_kept":42}
[]
["X"]
["A"]
["B"]
["C"]
["D"]
["E"]
["F"]
["G"]
["H"]
["ALEMANHA"]
["ARÁBIA SAUDITA"]
["ARGENTINA"]
["AUSTRÁLIA"]
["BÉLGICA"]
["BRASIL"]
["CAMARÕES"]
["CANADÁ"]
["CATAR"]
["COREIA DO SUL"]
["COSTA RICA"]
["CROÁCIA"]
["DINAMARCA"]
["EQUADOR"]
["ESPANHA"]
["ESTADOS UNIDOS"]
["FRANÇA"]
["GANA"]
["HOLANDA"]
["INGLATERRA"]
["IRÃ"]
["JAPÃO"]
["MARROCOS"]
["MÉXICO"]
["PAÍS DE GALES"]
["POLÔNIA"]
["PORTUGAL"]
["SENEGAL"]
["SÉRVIA"]
["SUÍÇA"]
["TUNÍSIA"]
["URUGUAI"]

{"sheet":"PONTUAÇÕES","index":15,"n_rows":33,"n_cols":11,"rows_kept":33}
["GRUPO","TIME","PAÍS","PTS","V","E","D","G.P","G.C","SLD","MANUAL"]
["A",1,{"$f":"INDIRECT(ADDRESS($B2+2,1,,1,\"TABELA \"&$A2))","v":"CATAR"},{"$f":"INDIRECT(ADDRESS($B2+2,COLUMN(D2)-2,,1,\"TABELA \"&$A2))","v":0},{"$f":"INDIRECT(ADDRESS($B2+2,COLUMN(E2)-2,,1,\"TABELA \"&$A2))","v":0},{"$f":"INDIRECT(ADDRESS($B2+2,COLUMN(F2)-2,,1,\"TABELA \"&$A2))","v":0},{"$f":"INDIRECT(ADDRESS($B2+2,COLUMN(G2)-2,,1,\"TABELA \"&$A2))","v":0},{"$f":"INDIRECT(ADDRESS($B2+2,COLUMN(H2)-2,,1,\"TABELA \"&$A2))","v":0},{"$f":"INDIRECT(ADDRESS($B2+2,COLUMN(I2)-2,,1,\"TABELA \"&$A2))","v":0},{"$f":"INDIRECT(ADDRESS($B2+2,COLUMN(J2)-2,,1,\"TABELA \"&$A2))","v":0},{"$f":"INDIRECT(ADDRESS($B2+2,COLUMN(K2)-2,,1,\"TABELA \"&$A2))","v":0}]
["A",2,{"$f":"INDIRECT(ADDRESS($B3+2,1,,1,\"TABELA \"&$A3))","v":"EQUADOR"},{"$f":"INDIRECT(ADDRESS($B3+2,COLUMN(D3)-2,,1,\"TABELA \"&$A3))","v":0},{"$f":"INDIRECT(ADDRESS($B3+2,COLUMN(E3)-2,,1,\"TABELA \"&$A3))","v":0},{"$f":"INDIRECT(ADDRESS($B3+2,COLUMN(F3)-2,,1,\"TABELA \"&$A3))","v":0},{"$f":"INDIRECT(ADDRESS($B3+2,COLUMN(G3)-2,,1,\"TABELA \"&$A3))","v":0},{"$f":"INDIRECT(ADDRESS($B3+2,COLUMN(H3)-2,,1,\"TABELA \"&$A3))","v":0},{"$f":"INDIRECT(ADDRESS($B3+2,COLUMN(I3)-2,,1,\"TABELA \"&$A3))","v":0},{"$f":"INDIRECT(ADDRESS($B3+2,COLUMN(J3)-2,,1,\"TABELA \"&$A3))","v":0},{"$f":"INDIRECT(ADDRESS($B3+2,COLUMN(K3)-2,,1,\"TABELA \"&$A3))","v":0}]
["A",3,{"$f":"INDIRECT(ADDRESS($B4+2,1,,1,\"TABELA \"&$A4))","v":"SENEGAL"},{"$f":"INDIRECT(ADDRESS($B4+2,COLUMN(D4)-2,,1,\"TABELA \"&$A4))","v":0},{"$f":"INDIRECT(ADDRESS($B4+2,COLUMN(E4)-2,,1,\"TABELA \"&$A4))","v":0},{"$f":"INDIRECT(ADDRESS($B4+2,COLUMN(F4)-2,,1,\"TABELA \"&$A4))","v":0},{"$f":"INDIRECT(ADDRESS($B4+2,COLUMN(G4)-2,,1,\"TABELA \"&$A4))","v":0},{"$f":"INDIRECT(ADDRESS($B4+2,COLUMN(H4)-2,,1,\"TABELA \"&$A4))","v":0},{"$f":"INDIRECT(ADDRESS($B4+2,COLUMN(I4)-2,,1,\"TABELA \"&$A4))","v":0},{"$f":"INDIRECT(ADDRESS($B4+2,COLUMN(J4)-2,,1,\"TABELA \"&$A4))","v":0},{"$f":"INDIRECT(ADDRESS($B4+2,COLUMN(K4)-2,,1,\"TABELA \"&$A4))","v":0}]
["A",4,{"$f":"INDIRECT(ADDRESS($B5+2,1,,1,\"TABELA \"&$A5))","v":"HOLANDA"},{"$f":"INDIRECT(ADDRESS($B5+2,COLUMN(D5)-2,,1,\"TABELA \"&$A5))","v":0},{"$f":"INDIRECT(ADDRESS($B5+2,COLUMN(E5)-2,,1,\"TABELA \"&$A5))","v":0},{"$f":"INDIRECT(ADDRESS($B5+2,COLUMN(F5)-2,,1,\"TABELA \"&$A5))","v":0},{"$f":"INDIRECT(ADDRESS($B5+2,COLUMN(G5)-2,,1,\"TABELA \"&$A5))","v":0},{"$f":"INDIRECT(ADDRESS($B5+2,COLUMN(H5)-2,,1,\"TABELA \"&$A5))","v":0},{"$f":"INDIRECT(ADDRESS($B5+2,COLUMN(I5)-2,,1,\"TABELA \"&$A5))","v":0},{"$f":"INDIRECT(ADDRESS($B5+2,COLUMN(J5)-2,,1,\"TABELA \"&$A5))","v":0},{"$f":"INDIRECT(ADDRESS($B5+2,COLUMN(K5)-2,,1,\"TABELA \"&$A5))","v":0}]
["B",1,{"$f":"INDIRECT(ADDRESS($B6+2,1,,1,\"TABELA \"&$A6))","v":"INGLATERRA"},{"$f":"INDIRECT(ADDRESS($B6+2,COLUMN(D6)-2,,1,\"TABELA \"&$A6))","v":0},{"$f":"INDIRECT(ADDRESS($B6+2,COLUMN(E6)-2,,1,\"TABELA \"&$A6))","v":0},{"$f":"INDIRECT(ADDRESS($B6+2,COLUMN(F6)-2,,1,\"TABELA \"&$A6))","v":0},{"$f":"INDIRECT(ADDRESS($B6+2,COLUMN(G6)-2,,1,\"TABELA \"&$A6))","v":0},{"$f":"INDIRECT(ADDRESS($B6+2,COLUMN(H6)-2,,1,\"TABELA \"&$A6))","v":0},{"$f":"INDIRECT(ADDRESS($B6+2,COLUMN(I6)-2,,1,\"TABELA \"&$A6))","v":0},{"$f":"INDIRECT(ADDRESS($B6+2,COLUMN(J6)-2,,1,\"TABELA \"&$A6))","v":0},{"$f":"INDIRECT(ADDRESS($B6+2,COLUMN(K6)-2,,1,\"TABELA \"&$A6))","v":0}]
["B",2,{"$f":"INDIRECT(ADDRESS($B7+2,1,,1,\"TABELA \"&$A7))","v":"IRÃ"},{"$f":"INDIRECT(ADDRESS($B7+2,COLUMN(D7)-2,,1,\"TABELA \"&$A7))","v":0},{"$f":"INDIRECT(ADDRESS($B7+2,COLUMN(E7)-2,,1,\"TABELA \"&$A7))","v":0},{"$f":"INDIRECT(ADDRESS($B7+2,COLUMN(F7)-2,,1,\"TABELA \"&$A7))","v":0},{"$f":"INDIRECT(ADDRESS($B7+2,COLUMN(G7)-2,,1,\"TABELA \"&$A7))","v":0},{"$f":"INDIRECT(ADDRESS($B7+2,COLUMN(H7)-2,,1,\"TABELA \"&$A7))","v":0},{"$f":"INDIRECT(ADDRESS($B7+2,COLUMN(I7)-2,,1,\"TABELA \"&$A7))","v":0},{"$f":"INDIRECT(ADDRESS($B7+2,COLUMN(J7)-2,,1,\"TABELA \"&$A7))","v":0},{"$f":"INDIRECT(ADDRESS($B7+2,COLUMN(K7)-2,,1,\"TABELA \"&$A7))","v":0}]
["B",3,{"$f":"INDIRECT(ADDRESS($B8+2,1,,1,\"TABELA \"&$A8))","v":"ESTADOS UNIDOS"},{"$f":"INDIRECT(ADDRESS($B8+2,COLUMN(D8)-2,,1,\"TABELA \"&$A8))","v":0},{"$f":"INDIRECT(ADDRESS($B8+2,COLUMN(E8)-2,,1,\"TABELA \"&$A8))","v":0},{"$f":"INDIRECT(ADDRESS($B8+2,COLUMN(F8)-2,,1,\"TABELA \"&$A8))","v":0},{"$f":"INDIRECT(ADDRESS($B8+2,COLUMN(G8)-2,,1,\"TABELA \"&$A8))","v":0},{"$f":"INDIRECT(ADDRESS($B8+2,COLUMN(H8)-2,,1,\"TABELA \"&$A8))","v":0},{"$f":"INDIRECT(ADDRESS($B8+2,COLUMN(I8)-2,,1,\"TABELA \"&$A8))","v":0},{"$f":"INDIRECT(ADDRESS($B8+2,COLUMN(J8)-2,,1,\"TABELA \"&$A8))","v":0},{"$f":"INDIRECT(ADDRESS($B8+2,COLUMN(K8)-2,,1,\"TABELA \"&$A8))","v":0}]
["B",4,{"$f":"INDIRECT(ADDRESS($B9+2,1,,1,\"TABELA \"&$A9))","v":"PAÍS DE GALES"},{"$f":"INDIRECT(ADDRESS($B9+2,COLUMN(D9)-2,,1,\"TABELA \"&$A9))","v":0},{"$f":"INDIRECT(ADDRESS($B9+2,COLUMN(E9)-2,,1,\"TABELA \"&$A9))","v":0},{"$f":"INDIRECT(ADDRESS($B9+2,COLUMN(F9)-2,,1,\"TABELA \"&$A9))","v":0},{"$f":"INDIRECT(ADDRESS($B9+2,COLUMN(G9)-2,,1,\"TABELA \"&$A9))","v":0},{"$f":"INDIRECT(ADDRESS($B9+2,COLUMN(H9)-2,,1,\"TABELA \"&$A9))","v":0},{"$f":"INDIRECT(ADDRESS($B9+2,COLUMN(I9)-2,,1,\"TABELA \"&$A9))","v":0},{"$f":"INDIRECT(ADDRESS($B9+2,COLUMN(J9)-2,,1,\"TABELA \"&$A9))","v":0},{"$f":"INDIRECT(ADDRESS($B9+2,COLUMN(K9)-2,,1,\"TABELA \"&$A9))","v":0}]
["C",1,{"$f":"INDIRECT(ADDRESS($B10+2,1,,1,\"TABELA \"&$A10))","v":"ARGENTINA"},{"$f":"INDIRECT(ADDRESS($B10+2,COLUMN(D10)-2,,1,\"TABELA \"&$A10))","v":0},{"$f":"INDIRECT(ADDRESS($B10+2,COLUMN(E10)-2,,1,\"TABELA \"&$A10))","v":0},{"$f":"INDIRECT(ADDRESS($B10+2,COLUMN(F10)-2,,1,\"TABELA \"&$A10))","v":0},{"$f":"INDIRECT(ADDRESS($B10+2,COLUMN(G10)-2,,1,\"TABELA \"&$A10))","v":0},{"$f":"INDIRECT(ADDRESS($B10+2,COLUMN(H10)-2,,1,\"TABELA \"&$A10))","v":0},{"$f":"INDIRECT(ADDRESS($B10+2,COLUMN(I10)-2,,1,\"TABELA \"&$A10))","v":0},{"$f":"INDIRECT(ADDRESS($B10+2,COLUMN(J10)-2,,1,\"TABELA \"&$A10))","v":0},{"$f":"INDIRECT(ADDRESS($B10+2,COLUMN(K10)-2,,1,\"TABELA \"&$A10))","v":0}]
["C",2,{"$f":"INDIRECT(ADDRESS($B11+2,1,,1,\"TABELA \"&$A11))","v":"ARÁBIA SAUDITA"},{"$f":"INDIRECT(ADDRESS($B11+2,COLUMN(D11)-2,,1,\"TABELA \"&$A11))","v":0},{"$f":"INDIRECT(ADDRESS($B11+2,COLUMN(E11)-2,,1,\"TABELA \"&$A11))","v":0},{"$f":"INDIRECT(ADDRESS($B11+2,COLUMN(F11)-2,,1,\"TABELA \"&$A11))","v":0},{"$f":"INDIRECT(ADDRESS($B11+2,COLUMN(G11)-2,,1,\"TABELA \"&$A11))","v":0},{"$f":"INDIRECT(ADDRESS($B11+2,COLUMN(H11)-2,,1,\"TABELA \"&$A11))","v":0},{"$f":"INDIRECT(ADDRESS($B11+2,COLUMN(I11)-2,,1,\"TABELA \"&$A11))","v":0},{"$f":"INDIRECT(ADDRESS($B11+2,COLUMN(J11)-2,,1,\"TABELA \"&$A11))","v":0},{"$f":"INDIRECT(ADDRESS($B11+2,COLUMN(K11)-2,,1,\"TABELA \"&$A11))","v":0}]
["C",3,{"$f":"INDIRECT(ADDRESS($B12+2,1,,1,\"TABELA \"&$A12))","v":"MÉXICO"},{"$f":"INDIRECT(ADDRESS($B12+2,COLUMN(D12)-2,,1,\"TABELA \"&$A12))","v":0},{"$f":"INDIRECT(ADDRESS($B12+2,COLUMN(E12)-2,,1,\"TABELA \"&$A12))","v":0},{"$f":"INDIRECT(ADDRESS($B12+2,COLUMN(F12)-2,,1,\"TABELA \"&$A12))","v":0},{"$f":"INDIRECT(ADDRESS($B12+2,COLUMN(G12)-2,,1,\"TABELA \"&$A12))","v":0},{"$f":"INDIRECT(ADDRESS($B12+2,COLUMN(H12)-2,,1,\"TABELA \"&$A12))","v":0},{"$f":"INDIRECT(ADDRESS($B12+2,COLUMN(I12)-2,,1,\"TABELA \"&$A12))","v":0},{"$f":"INDIRECT(ADDRESS($B12+2,COLUMN(J12)-2,,1,\"TABELA \"&$A12))","v":0},{"$f":"INDIRECT(ADDRESS($B12+2,COLUMN(K12)-2,,1,\"TABELA \"&$A12))","v":0}]
["C",4,{"$f":"INDIRECT(ADDRESS($B13+2,1,,1,\"TABELA \"&$A13))","v":"POLÔNIA"},{"$f":"INDIRECT(ADDRESS($B13+2,COLUMN(D13)-2,,1,\"TABELA \"&$A13))","v":0},{"$f":"INDIRECT(ADDRESS($B13+2,COLUMN(E13)-2,,1,\"TABELA \"&$A13))","v":0},{"$f":"INDIRECT(ADDRESS($B13+2,COLUMN(F13)-2,,1,\"TABELA \"&$A13))","v":0},{"$f":"INDIRECT(ADDRESS($B13+2,COLUMN(G13)-2,,1,\"TABELA \"&$A13))","v":0},{"$f":"INDIRECT(ADDRESS($B13+2,COLUMN(H13)-2,,1,\"TABELA \"&$A13))","v":0},{"$f":"INDIRECT(ADDRESS($B13+2,COLUMN(I13)-2,,1,\"TABELA \"&$A13))","v":0},{"$f":"INDIRECT(ADDRESS($B13+2,COLUMN(J13)-2,,1,\"TABELA \"&$A13))","v":0},{"$f":"INDIRECT(ADDRESS($B13+2,COLUMN(K13)-2,,1,\"TABELA \"&$A13))","v":0}]
["D",1,{"$f":"INDIRECT(ADDRESS($B14+2,1,,1,\"TABELA \"&$A14))","v":"FRANÇA"},{"$f":"INDIRECT(ADDRESS($B14+2,COLUMN(D14)-2,,1,\"TABELA \"&$A14))","v":0},{"$f":"INDIRECT(ADDRESS($B14+2,COLUMN(E14)-2,,1,\"TABELA \"&$A14))","v":0},{"$f":"INDIRECT(ADDRESS($B14+2,COLUMN(F14)-2,,1,\"TABELA \"&$A14))","v":0},{"$f":"INDIRECT(ADDRESS($B14+2,COLUMN(G14)-2,,1,\"TABELA \"&$A14))","v":0},{"$f":"INDIRECT(ADDRESS($B14+2,COLUMN(H14)-2,,1,\"TABELA \"&$A14))","v":0},{"$f":"INDIRECT(ADDRESS($B14+2,COLUMN(I14)-2,,1,\"TABELA \"&$A14))","v":0},{"$f":"INDIRECT(ADDRESS($B14+2,COLUMN(J14)-2,,1,\"TABELA \"&$A14))","v":0},{"$f":"INDIRECT(ADDRESS($B14+2,COLUMN(K14)-2,,1,\"TABELA \"&$A14))","v":0}]
["D",2,{"$f":"INDIRECT(ADDRESS($B15+2,1,,1,\"TABELA \"&$A15))","v":"AUSTRÁLIA"},{"$f":"INDIRECT(ADDRESS($B15+2,COLUMN(D15)-2,,1,\"TABELA \"&$A15))","v":0},{"$f":"INDIRECT(ADDRESS($B15+2,COLUMN(E15)-2,,1,\"TABELA \"&$A15))","v":0},{"$f":"INDIRECT(ADDRESS($B15+2,COLUMN(F15)-2,,1,\"TABELA \"&$A15))","v":0},{"$f":"INDIRECT(ADDRESS($B15+2,COLUMN(G15)-2,,1,\"TABELA \"&$A15))","v":0},{"$f":"INDIRECT(ADDRESS($B15+2,COLUMN(H15)-2,,1,\"TABELA \"&$A15))","v":0},{"$f":"INDIRECT(ADDRESS($B15+2,COLUMN(I15)-2,,1,\"TABELA \"&$A15))","v":0},{"$f":"INDIRECT(ADDRESS($B15+2,COLUMN(J15)-2,,1,\"TABELA \"&$A15))","v":0},{"$f":"INDIRECT(ADDRESS($B15+2,COLUMN(K15)-2,,1,\"TABELA \"&$A15))","v":0}]
["D",3,{"$f":"INDIRECT(ADDRESS($B16+2,1,,1,\"TABELA \"&$A16))","v":"DINAMARCA"},{"$f":"INDIRECT(ADDRESS($B16+2,COLUMN(D16)-2,,1,\"TABELA \"&$A16))","v":0},{"$f":"INDIRECT(ADDRESS($B16+2,COLUMN(E16)-2,,1,\"TABELA \"&$A16))","v":0},{"$f":"INDIRECT(ADDRESS($B16+2,COLUMN(F16)-2,,1,\"TABELA \"&$A16))","v":0},{"$f":"INDIRECT(ADDRESS($B16+2,COLUMN(G16)-2,,1,\"TABELA \"&$A16))","v":0},{"$f":"INDIRECT(ADDRESS($B16+2,COLUMN(H16)-2,,1,\"TABELA \"&$A16))","v":0},{"$f":"INDIRECT(ADDRESS($B16+2,COLUMN(I16)-2,,1,\"TABELA \"&$A16))","v":0},{"$f":"INDIRECT(ADDRESS($B16+2,COLUMN(J16)-2,,1,\"TABELA \"&$A16))","v":0},{"$f":"INDIRECT(ADDRESS($B16+2,COLUMN(K16)-2,,1,\"TABELA \"&$A16))","v":0}]
["D",4,{"$f":"INDIRECT(ADDRESS($B17+2,1,,1,\"TABELA \"&$A17))","v":"TUNÍSIA"},{"$f":"INDIRECT(ADDRESS($B17+2,COLUMN(D17)-2,,1,\"TABELA \"&$A17))","v":0},{"$f":"INDIRECT(ADDRESS($B17+2,COLUMN(E17)-2,,1,\"TABELA \"&$A17))","v":0},{"$f":"INDIRECT(ADDRESS($B17+2,COLUMN(F17)-2,,1,\"TABELA \"&$A17))","v":0},{"$f":"INDIRECT(ADDRESS($B17+2,COLUMN(G17)-2,,1,\"TABELA \"&$A17))","v":0},{"$f":"INDIRECT(ADDRESS($B17+2,COLUMN(H17)-2,,1,\"TABELA \"&$A17))","v":0},{"$f":"INDIRECT(ADDRESS($B17+2,COLUMN(I17)-2,,1,\"TABELA \"&$A17))","v":0},{"$f":"INDIRECT(ADDRESS($B17+2,COLUMN(J17)-2,,1,\"TABELA \"&$A17))","v":0},{"$f":"INDIRECT(ADDRESS($B17+2,COLUMN(K17)-2,,1,\"TABELA \"&$A17))","v":0}]
["E",1,{"$f":"INDIRECT(ADDRESS($B18+2,1,,1,\"TABELA \"&$A18))","v":"ESPANHA"},{"$f":"INDIRECT(ADDRESS($B18+2,COLUMN(D18)-2,,1,\"TABELA \"&$A18))","v":0},{"$f":"INDIRECT(ADDRESS($B18+2,COLUMN(E18)-2,,1,\"TABELA \"&$A18))","v":0},{"$f":"INDIRECT(ADDRESS($B18+2,COLUMN(F18)-2,,1,\"TABELA \"&$A18))","v":0},{"$f":"INDIRECT(ADDRESS($B18+2,COLUMN(G18)-2,,1,\"TABELA \"&$A18))","v":0},{"$f":"INDIRECT(ADDRESS($B18+2,COLUMN(H18)-2,,1,\"TABELA \"&$A18))","v":0},{"$f":"INDIRECT(ADDRESS($B18+2,COLUMN(I18)-2,,1,\"TABELA \"&$A18))","v":0},{"$f":"INDIRECT(ADDRESS($B18+2,COLUMN(J18)-2,,1,\"TABELA \"&$A18))","v":0},{"$f":"INDIRECT(ADDRESS($B18+2,COLUMN(K18)-2,,1,\"TABELA \"&$A18))","v":0}]
["E",2,{"$f":"INDIRECT(ADDRESS($B19+2,1,,1,\"TABELA \"&$A19))","v":"COSTA RICA"},{"$f":"INDIRECT(ADDRESS($B19+2,COLUMN(D19)-2,,1,\"TABELA \"&$A19))","v":0},{"$f":"INDIRECT(ADDRESS($B19+2,COLUMN(E19)-2,,1,\"TABELA \"&$A19))","v":0},{"$f":"INDIRECT(ADDRESS($B19+2,COLUMN(F19)-2,,1,\"TABELA \"&$A19))","v":0},{"$f":"INDIRECT(ADDRESS($B19+2,COLUMN(G19)-2,,1,\"TABELA \"&$A19))","v":0},{"$f":"INDIRECT(ADDRESS($B19+2,COLUMN(H19)-2,,1,\"TABELA \"&$A19))","v":0},{"$f":"INDIRECT(ADDRESS($B19+2,COLUMN(I19)-2,,1,\"TABELA \"&$A19))","v":0},{"$f":"INDIRECT(ADDRESS($B19+2,COLUMN(J19)-2,,1,\"TABELA \"&$A19))","v":0},{"$f":"INDIRECT(ADDRESS($B19+2,COLUMN(K19)-2,,1,\"TABELA \"&$A19))","v":0}]
["E",3,{"$f":"INDIRECT(ADDRESS($B20+2,1,,1,\"TABELA \"&$A20))","v":"ALEMANHA"},{"$f":"INDIRECT(ADDRESS($B20+2,COLUMN(D20)-2,,1,\"TABELA \"&$A20))","v":0},{"$f":"INDIRECT(ADDRESS($B20+2,COLUMN(E20)-2,,1,\"TABELA \"&$A20))","v":0},{"$f":"INDIRECT(ADDRESS($B20+2,COLUMN(F20)-2,,1,\"TABELA \"&$A20))","v":0},{"$f":"INDIRECT(ADDRESS($B20+2,COLUMN(G20)-2,,1,\"TABELA \"&$A20))","v":0},{"$f":"INDIRECT(ADDRESS($B20+2,COLUMN(H20)-2,,1,\"TABELA \"&$A20))","v":0},{"$f":"INDIRECT(ADDRESS($B20+2,COLUMN(I20)-2,,1,\"TABELA \"&$A20))","v":0},{"$f":"INDIRECT(ADDRESS($B20+2,COLUMN(J20)-2,,1,\"TABELA \"&$A20))","v":0},{"$f":"INDIRECT(ADDRESS($B20+2,COLUMN(K20)-2,,1,\"TABELA \"&$A20))","v":0}]
["E",4,{"$f":"INDIRECT(ADDRESS($B21+2,1,,1,\"TABELA \"&$A21))","v":"JAPÃO"},{"$f":"INDIRECT(ADDRESS($B21+2,COLUMN(D21)-2,,1,\"TABELA \"&$A21))","v":0},{"$f":"INDIRECT(ADDRESS($B21+2,COLUMN(E21)-2,,1,\"TABELA \"&$A21))","v":0},{"$f":"INDIRECT(ADDRESS($B21+2,COLUMN(F21)-2,,1,\"TABELA \"&$A21))","v":0},{"$f":"INDIRECT(ADDRESS($B21+2,COLUMN(G21)-2,,1,\"TABELA \"&$A21))","v":0},{"$f":"INDIRECT(ADDRESS($B21+2,COLUMN(H21)-2,,1,\"TABELA \"&$A21))","v":0},{"$f":"INDIRECT(ADDRESS($B21+2,COLUMN(I21)-2,,1,\"TABELA \"&$A21))","v":0},{"$f":"INDIRECT(ADDRESS($B21+2,COLUMN(J21)-2,,1,\"TABELA \"&$A21))","v":0},{"$f":"INDIRECT(ADDRESS($B21+2,COLUMN(K21)-2,,1,\"TABELA \"&$A21))","v":0}]
["F",1,{"$f":"INDIRECT(ADDRESS($B22+2,1,,1,\"TABELA \"&$A22))","v":"BÉLGICA"},{"$f":"INDIRECT(ADDRESS($B22+2,COLUMN(D22)-2,,1,\"TABELA \"&$A22))","v":0},{"$f":"INDIRECT(ADDRESS($B22+2,COLUMN(E22)-2,,1,\"TABELA \"&$A22))","v":0},{"$f":"INDIRECT(ADDRESS($B22+2,COLUMN(F22)-2,,1,\"TABELA \"&$A22))","v":0},{"$f":"INDIRECT(ADDRESS($B22+2,COLUMN(G22)-2,,1,\"TABELA \"&$A22))","v":0},{"$f":"INDIRECT(ADDRESS($B22+2,COLUMN(H22)-2,,1,\"TABELA \"&$A22))","v":0},{"$f":"INDIRECT(ADDRESS($B22+2,COLUMN(I22)-2,,1,\"TABELA \"&$A22))","v":0},{"$f":"INDIRECT(ADDRESS($B22+2,COLUMN(J22)-2,,1,\"TABELA \"&$A22))","v":0},{"$f":"INDIRECT(ADDRESS($B22+2,COLUMN(K22)-2,,1,\"TABELA \"&$A22))","v":0}]
["F",2,{"$f":"INDIRECT(ADDRESS($B23+2,1,,1,\"TABELA \"&$A23))","v":"CANADÁ"},{"$f":"INDIRECT(ADDRESS($B23+2,COLUMN(D23)-2,,1,\"TABELA \"&$A23))","v":0},{"$f":"INDIRECT(ADDRESS($B23+2,COLUMN(E23)-2,,1,\"TABELA \"&$A23))","v":0},{"$f":"INDIRECT(ADDRESS($B23+2,COLUMN(F23)-2,,1,\"TABELA \"&$A23))","v":0},{"$f":"INDIRECT(ADDRESS($B23+2,COLUMN(G23)-2,,1,\"TABELA \"&$A23))","v":0},{"$f":"INDIRECT(ADDRESS($B23+2,COLUMN(H23)-2,,1,\"TABELA \"&$A23))","v":0},{"$f":"INDIRECT(ADDRESS($B23+2,COLUMN(I23)-2,,1,\"TABELA \"&$A23))","v":0},{"$f":"INDIRECT(ADDRESS($B23+2,COLUMN(J23)-2,,1,\"TABELA \"&$A23))","v":0},{"$f":"INDIRECT(ADDRESS($B23+2,COLUMN(K23)-2,,1,\"TABELA \"&$A23))","v":0}]
["F",3,{"$f":"INDIRECT(ADDRESS($B24+2,1,,1,\"TABELA \"&$A24))","v":"MARROCOS"},{"$f":"INDIRECT(ADDRESS($B24+2,COLUMN(D24)-2,,1,\"TABELA \"&$A24))","v":0},{"$f":"INDIRECT(ADDRESS($B24+2,COLUMN(E24)-2,,1,\"TABELA \"&$A24))","v":0},{"$f":"INDIRECT(ADDRESS($B24+2,COLUMN(F24)-2,,1,\"TABELA \"&$A24))","v":0},{"$f":"INDIRECT(ADDRESS($B24+2,COLUMN(G24)-2,,1,\"TABELA \"&$A24))","v":0},{"$f":"INDIRECT(ADDRESS($B24+2,COLUMN(H24)-2,,1,\"TABELA \"&$A24))","v":0},{"$f":"INDIRECT(ADDRESS($B24+2,COLUMN(I24)-2,,1,\"TABELA \"&$A24))","v":0},{"$f":"INDIRECT(ADDRESS($B24+2,COLUMN(J24)-2,,1,\"TABELA \"&$A24))","v":0},{"$f":"INDIRECT(ADDRESS($B24+2,COLUMN(K24)-2,,1,\"TABELA \"&$A24))","v":0}]
["F",4,{"$f":"INDIRECT(ADDRESS($B25+2,1,,1,\"TABELA \"&$A25))","v":"CROÁCIA"},{"$f":"INDIRECT(ADDRESS($B25+2,COLUMN(D25)-2,,1,\"TABELA \"&$A25))","v":0},{"$f":"INDIRECT(ADDRESS($B25+2,COLUMN(E25)-2,,1,\"TABELA \"&$A25))","v":0},{"$f":"INDIRECT(ADDRESS($B25+2,COLUMN(F25)-2,,1,\"TABELA \"&$A25))","v":0},{"$f":"INDIRECT(ADDRESS($B25+2,COLUMN(G25)-2,,1,\"TABELA \"&$A25))","v":0},{"$f":"INDIRECT(ADDRESS($B25+2,COLUMN(H25)-2,,1,\"TABELA \"&$A25))","v":0},{"$f":"INDIRECT(ADDRESS($B25+2,COLUMN(I25)-2,,1,\"TABELA \"&$A25))","v":0},{"$f":"INDIRECT(ADDRESS($B25+2,COLUMN(J25)-2,,1,\"TABELA \"&$A25))","v":0},{"$f":"INDIRECT(ADDRESS($B25+2,COLUMN(K25)-2,,1,\"TABELA \"&$A25))","v":0}]
["G",1,{"$f":"INDIRECT(ADDRESS($B26+2,1,,1,\"TABELA \"&$A26))","v":"BRASIL"},{"$f":"INDIRECT(ADDRESS($B26+2,COLUMN(D26)-2,,1,\"TABELA \"&$A26))","v":0},{"$f":"INDIRECT(ADDRESS($B26+2,COLUMN(E26)-2,,1,\"TABELA \"&$A26))","v":0},{"$f":"INDIRECT(ADDRESS($B26+2,COLUMN(F26)-2,,1,\"TABELA \"&$A26))","v":0},{"$f":"INDIRECT(ADDRESS($B26+2,COLUMN(G26)-2,,1,\"TABELA \"&$A26))","v":0},{"$f":"INDIRECT(ADDRESS($B26+2,COLUMN(H26)-2,,1,\"TABELA \"&$A26))","v":0},{"$f":"INDIRECT(ADDRESS($B26+2,COLUMN(I26)-2,,1,\"TABELA \"&$A26))","v":0},{"$f":"INDIRECT(ADDRESS($B26+2,COLUMN(J26)-2,,1,\"TABELA \"&$A26))","v":0},{"$f":"INDIRECT(ADDRESS($B26+2,COLUMN(K26)-2,,1,\"TABELA \"&$A26))","v":0}]
["G",2,{"$f":"INDIRECT(ADDRESS($B27+2,1,,1,\"TABELA \"&$A27))","v":"SÉRVIA"},{"$f":"INDIRECT(ADDRESS($B27+2,COLUMN(D27)-2,,1,\"TABELA \"&$A27))","v":0},{"$f":"INDIRECT(ADDRESS($B27+2,COLUMN(E27)-2,,1,\"TABELA \"&$A27))","v":0},{"$f":"INDIRECT(ADDRESS($B27+2,COLUMN(F27)-2,,1,\"TABELA \"&$A27))","v":0},{"$f":"INDIRECT(ADDRESS($B27+2,COLUMN(G27)-2,,1,\"TABELA \"&$A27))","v":0},{"$f":"INDIRECT(ADDRESS($B27+2,COLUMN(H27)-2,,1,\"TABELA \"&$A27))","v":0},{"$f":"INDIRECT(ADDRESS($B27+2,COLUMN(I27)-2,,1,\"TABELA \"&$A27))","v":0},{"$f":"INDIRECT(ADDRESS($B27+2,COLUMN(J27)-2,,1,\"TABELA \"&$A27))","v":0},{"$f":"INDIRECT(ADDRESS($B27+2,COLUMN(K27)-2,,1,\"TABELA \"&$A27))","v":0}]
["G",3,{"$f":"INDIRECT(ADDRESS($B28+2,1,,1,\"TABELA \"&$A28))","v":"SUÍÇA"},{"$f":"INDIRECT(ADDRESS($B28+2,COLUMN(D28)-2,,1,\"TABELA \"&$A28))","v":0},{"$f":"INDIRECT(ADDRESS($B28+2,COLUMN(E28)-2,,1,\"TABELA \"&$A28))","v":0},{"$f":"INDIRECT(ADDRESS($B28+2,COLUMN(F28)-2,,1,\"TABELA \"&$A28))","v":0},{"$f":"INDIRECT(ADDRESS($B28+2,COLUMN(G28)-2,,1,\"TABELA \"&$A28))","v":0},{"$f":"INDIRECT(ADDRESS($B28+2,COLUMN(H28)-2,,1,\"TABELA \"&$A28))","v":0},{"$f":"INDIRECT(ADDRESS($B28+2,COLUMN(I28)-2,,1,\"TABELA \"&$A28))","v":0},{"$f":"INDIRECT(ADDRESS($B28+2,COLUMN(J28)-2,,1,\"TABELA \"&$A28))","v":0},{"$f":"INDIRECT(ADDRESS($B28+2,COLUMN(K28)-2,,1,\"TABELA \"&$A28))","v":0}]
["G",4,{"$f":"INDIRECT(ADDRESS($B29+2,1,,1,\"TABELA \"&$A29))","v":"CAMARÕES"},{"$f":"INDIRECT(ADDRESS($B29+2,COLUMN(D29)-2,,1,\"TABELA \"&$A29))","v":0},{"$f":"INDIRECT(ADDRESS($B29+2,COLUMN(E29)-2,,1,\"TABELA \"&$A29))","v":0},{"$f":"INDIRECT(ADDRESS($B29+2,COLUMN(F29)-2,,1,\"TABELA \"&$A29))","v":0},{"$f":"INDIRECT(ADDRESS($B29+2,COLUMN(G29)-2,,1,\"TABELA \"&$A29))","v":0},{"$f":"INDIRECT(ADDRESS($B29+2,COLUMN(H29)-2,,1,\"TABELA \"&$A29))","v":0},{"$f":"INDIRECT(ADDRESS($B29+2,COLUMN(I29)-2,,1,\"TABELA \"&$A29))","v":0},{"$f":"INDIRECT(ADDRESS($B29+2,COLUMN(J29)-2,,1,\"TABELA \"&$A29))","v":0},{"$f":"INDIRECT(ADDRESS($B29+2,COLUMN(K29)-2,,1,\"TABELA \"&$A29))","v":0}]
["H",1,{"$f":"INDIRECT(ADDRESS($B30+2,1,,1,\"TABELA \"&$A30))","v":"PORTUGAL"},{"$f":"INDIRECT(ADDRESS($B30+2,COLUMN(D30)-2,,1,\"TABELA \"&$A30))","v":0},{"$f":"INDIRECT(ADDRESS($B30+2,COLUMN(E30)-2,,1,\"TABELA \"&$A30))","v":0},{"$f":"INDIRECT(ADDRESS($B30+2,COLUMN(F30)-2,,1,\"TABELA \"&$A30))","v":0},{"$f":"INDIRECT(ADDRESS($B30+2,COLUMN(G30)-2,,1,\"TABELA \"&$A30))","v":0},{"$f":"INDIRECT(ADDRESS($B30+2,COLUMN(H30)-2,,1,\"TABELA \"&$A30))","v":0},{"$f":"INDIRECT(ADDRESS($B30+2,COLUMN(I30)-2,,1,\"TABELA \"&$A30))","v":0},{"$f":"INDIRECT(ADDRESS($B30+2,COLUMN(J30)-2,,1,\"TABELA \"&$A30))","v":0},{"$f":"INDIRECT(ADDRESS($B30+2,COLUMN(K30)-2,,1,\"TABELA \"&$A30))","v":0}]
["H",2,{"$f":"INDIRECT(ADDRESS($B31+2,1,,1,\"TABELA \"&$A31))","v":"GANA"},{"$f":"INDIRECT(ADDRESS($B31+2,COLUMN(D31)-2,,1,\"TABELA \"&$A31))","v":0},{"$f":"INDIRECT(ADDRESS($B31+2,COLUMN(E31)-2,,1,\"TABELA \"&$A31))","v":0},{"$f":"INDIRECT(ADDRESS($B31+2,COLUMN(F31)-2,,1,\"TABELA \"&$A31))","v":0},{"$f":"INDIRECT(ADDRESS($B31+2,COLUMN(G31)-2,,1,\"TABELA \"&$A31))","v":0},{"$f":"INDIRECT(ADDRESS($B31+2,COLUMN(H31)-2,,1,\"TABELA \"&$A31))","v":0},{"$f":"INDIRECT(ADDRESS($B31+2,COLUMN(I31)-2,,1,\"TABELA \"&$A31))","v":0},{"$f":"INDIRECT(ADDRESS($B31+2,COLUMN(J31)-2,,1,\"TABELA \"&$A31))","v":0},{"$f":"INDIRECT(ADDRESS($B31+2,COLUMN(K31)-2,,1,\"TABELA \"&$A31))","v":0}]
["H",3,{"$f":"INDIRECT(ADDRESS($B32+2,1,,1,\"TABELA \"&$A32))","v":"URUGUAI"},{"$f":"INDIRECT(ADDRESS($B32+2,COLUMN(D32)-2,,1,\"TABELA \"&$A32))","v":0},{"$f":"INDIRECT(ADDRESS($B32+2,COLUMN(E32)-2,,1,\"TABELA \"&$A32))","v":0},{"$f":"INDIRECT(ADDRESS($B32+2,COLUMN(F32)-2,,1,\"TABELA \"&$A32))","v":0},{"$f":"INDIRECT(ADDRESS($B32+2,COLUMN(G32)-2,,1,\"TABELA \"&$A32))","v":0},{"$f":"INDIRECT(ADDRESS($B32+2,COLUMN(H32)-2,,1,\"TABELA \"&$A32))","v":0},{"$f":"INDIRECT(ADDRESS($B32+2,COLUMN(I32)-2,,1,\"TABELA \"&$A32))","v":0},{"$f":"INDIRECT(ADDRESS($B32+2,COLUMN(J32)-2,,1,\"TABELA \"&$A32))","v":0},{"$f":"INDIRECT(ADDRESS($B32+2,COLUMN(K32)-2,,1,\"TABELA \"&$A32))","v":0}]
["H",4,{"$f":"INDIRECT(ADDRESS($B33+2,1,,1,\"TABELA \"&$A33))","v":"COREIA DO SUL"},{"$f":"INDIRECT(ADDRESS($B33+2,COLUMN(D33)-2,,1,\"TABELA \"&$A33))","v":0},{"$f":"INDIRECT(ADDRESS($B33+2,COLUMN(E33)-2,,1,\"TABELA \"&$A33))","v":0},{"$f":"INDIRECT(ADDRESS($B33+2,COLUMN(F33)-2,,1,\"TABELA \"&$A33))","v":0},{"$f":"INDIRECT(ADDRESS($B33+2,COLUMN(G33)-2,,1,\"TABELA \"&$A33))","v":0},{"$f":"INDIRECT(ADDRESS($B33+2,COLUMN(H33)-2,,1,\"TABELA \"&$A33))","v":0},{"$f":"INDIRECT(ADDRESS($B33+2,COLUMN(I33)-2,,1,\"TABELA \"&$A33))","v":0},{"$f":"INDIRECT(ADDRESS($B33+2,COLUMN(J33)-2,,1,\"TABELA \"&$A33))","v":0},{"$f":"INDIRECT(ADDRESS($B33+2,COLUMN(K33)-2,,1,\"TABELA \"&$A33))","v":0}]